BEGIN:VCALENDAR
VERSION:2.0
PRODID:-//Dawn Yarn Doll - ECPv6.15.20//NONSGML v1.0//EN
CALSCALE:GREGORIAN
METHOD:PUBLISH
X-WR-CALNAME:Dawn Yarn Doll
X-ORIGINAL-URL:https://dawnyarndoll.com
X-WR-CALDESC:Events for Dawn Yarn Doll
REFRESH-INTERVAL;VALUE=DURATION:PT1H
X-Robots-Tag:noindex
X-PUBLISHED-TTL:PT1H
BEGIN:VTIMEZONE
TZID:America/Los_Angeles
BEGIN:DAYLIGHT
TZOFFSETFROM:-0800
TZOFFSETTO:-0700
TZNAME:PDT
DTSTART:20230312T100000
END:DAYLIGHT
BEGIN:STANDARD
TZOFFSETFROM:-0700
TZOFFSETTO:-0800
TZNAME:PST
DTSTART:20231105T090000
END:STANDARD
BEGIN:DAYLIGHT
TZOFFSETFROM:-0800
TZOFFSETTO:-0700
TZNAME:PDT
DTSTART:20240310T100000
END:DAYLIGHT
BEGIN:STANDARD
TZOFFSETFROM:-0700
TZOFFSETTO:-0800
TZNAME:PST
DTSTART:20241103T090000
END:STANDARD
BEGIN:DAYLIGHT
TZOFFSETFROM:-0800
TZOFFSETTO:-0700
TZNAME:PDT
DTSTART:20250309T100000
END:DAYLIGHT
BEGIN:STANDARD
TZOFFSETFROM:-0700
TZOFFSETTO:-0800
TZNAME:PST
DTSTART:20251102T090000
END:STANDARD
END:VTIMEZONE
BEGIN:VEVENT
DTSTART;TZID=America/Los_Angeles:20240517T120000
DTEND;TZID=America/Los_Angeles:20240517T140000
DTSTAMP:20260421T054506
CREATED:20240509T033716Z
LAST-MODIFIED:20240509T033716Z
UID:1510-1715947200-1715954400@dawnyarndoll.com
SUMMARY:Art with Art Junkie
DESCRIPTION:
URL:https://dawnyarndoll.com/index.php/event/art-with-art-junkie-2/
CATEGORIES:Art Junkie - Crochet and Mixed Media Arts
END:VEVENT
BEGIN:VEVENT
DTSTART;TZID=America/Los_Angeles:20240520T170000
DTEND;TZID=America/Los_Angeles:20240520T190000
DTSTAMP:20260421T054506
CREATED:20240509T233418Z
LAST-MODIFIED:20240509T234105Z
UID:1516-1716224400-1716231600@dawnyarndoll.com
SUMMARY:Art Junkie live from the Lounge Chair with Pamskis Crafty Heart
DESCRIPTION:
URL:https://dawnyarndoll.com/index.php/event/art-junkie-live-from-the-lounge-chair-with-pamskis-crafty-heart/
CATEGORIES:Art Junkie - Crochet and Mixed Media Arts
END:VEVENT
BEGIN:VEVENT
DTSTART;TZID=America/Los_Angeles:20240524T120000
DTEND;TZID=America/Los_Angeles:20240524T140000
DTSTAMP:20260421T054506
CREATED:20240509T233932Z
LAST-MODIFIED:20240509T233932Z
UID:1521-1716552000-1716559200@dawnyarndoll.com
SUMMARY:Art with Art Junkie
DESCRIPTION:
URL:https://dawnyarndoll.com/index.php/event/art-with-art-junkie-3/
CATEGORIES:Art Junkie - Crochet and Mixed Media Arts
END:VEVENT
BEGIN:VEVENT
DTSTART;TZID=America/Los_Angeles:20240527T170000
DTEND;TZID=America/Los_Angeles:20240527T190000
DTSTAMP:20260421T054506
CREATED:20240509T233622Z
LAST-MODIFIED:20240509T233723Z
UID:1518-1716829200-1716836400@dawnyarndoll.com
SUMMARY:Art Junkie Live from the Lounge Chair with Michi's Crochet Nook
DESCRIPTION:
URL:https://dawnyarndoll.com/index.php/event/art-junkie-live-from-the-lounge-chair-with-michis-croh-nook/
CATEGORIES:Art Junkie - Crochet and Mixed Media Arts
END:VEVENT
BEGIN:VEVENT
DTSTART;TZID=America/Los_Angeles:20240531T120000
DTEND;TZID=America/Los_Angeles:20240531T140000
DTSTAMP:20260421T054506
CREATED:20240509T234618Z
LAST-MODIFIED:20240509T234618Z
UID:1525-1717156800-1717164000@dawnyarndoll.com
SUMMARY:Art with Art Junkie
DESCRIPTION:
URL:https://dawnyarndoll.com/index.php/event/art-with-art-junkie-4/
CATEGORIES:Art Junkie - Crochet and Mixed Media Arts
END:VEVENT
END:VCALENDAR