BEGIN:VCALENDAR
VERSION:2.0
PRODID:-//Dawn Yarn Doll - ECPv6.15.20//NONSGML v1.0//EN
CALSCALE:GREGORIAN
METHOD:PUBLISH
X-ORIGINAL-URL:https://dawnyarndoll.com
X-WR-CALDESC:Events for Dawn Yarn Doll
REFRESH-INTERVAL;VALUE=DURATION:PT1H
X-Robots-Tag:noindex
X-PUBLISHED-TTL:PT1H
BEGIN:VTIMEZONE
TZID:America/Los_Angeles
BEGIN:DAYLIGHT
TZOFFSETFROM:-0800
TZOFFSETTO:-0700
TZNAME:PDT
DTSTART:20220313T100000
END:DAYLIGHT
BEGIN:STANDARD
TZOFFSETFROM:-0700
TZOFFSETTO:-0800
TZNAME:PST
DTSTART:20221106T090000
END:STANDARD
BEGIN:DAYLIGHT
TZOFFSETFROM:-0800
TZOFFSETTO:-0700
TZNAME:PDT
DTSTART:20230312T100000
END:DAYLIGHT
BEGIN:STANDARD
TZOFFSETFROM:-0700
TZOFFSETTO:-0800
TZNAME:PST
DTSTART:20231105T090000
END:STANDARD
BEGIN:DAYLIGHT
TZOFFSETFROM:-0800
TZOFFSETTO:-0700
TZNAME:PDT
DTSTART:20240310T100000
END:DAYLIGHT
BEGIN:STANDARD
TZOFFSETFROM:-0700
TZOFFSETTO:-0800
TZNAME:PST
DTSTART:20241103T090000
END:STANDARD
END:VTIMEZONE
BEGIN:VEVENT
DTSTART;TZID=America/Los_Angeles:20231209T160000
DTEND;TZID=America/Los_Angeles:20231209T180000
DTSTAMP:20260424T092918
CREATED:20231207T025323Z
LAST-MODIFIED:20231207T025323Z
UID:279-1702137600-1702144800@dawnyarndoll.com
SUMMARY:Lets Get Crafting on BeeCreative Crafts
DESCRIPTION:
URL:https://dawnyarndoll.com/index.php/event/lets-get-crafting-on-beecreative-crafts/
CATEGORIES:Bee Creative Crafts Lives
END:VEVENT
BEGIN:VEVENT
DTSTART;TZID=America/Los_Angeles:20231211T160000
DTEND;TZID=America/Los_Angeles:20231211T180000
DTSTAMP:20260424T092918
CREATED:20231211T182940Z
LAST-MODIFIED:20231211T183141Z
UID:298-1702310400-1702317600@dawnyarndoll.com
SUMMARY:Just Bee Stitchin’ / Cup Cozies
DESCRIPTION:Thank you for joining Connie @justanotherstitch & I. We hope you enjoy the cup cozy patterns we’re sharing with you today! Like the hats we’re wearing the in thumbnail? Connie wrote the pattern and it will be available soon! Keep a watch on her channel for more details.  \nCrochet Patterns: https://www.ravelry.com/patterns/libr… \n https://www.ravelry.com/patterns/libr…  \nhttps://www.ravelry.com/patterns/libr…  \nhttps://www.ravelry.com/patterns/libr…  \nhttps://www.ravelry.com/patterns/libr…  \nhttps://www.ravelry.com/patterns/libr…  \nhttps://www.ravelry.com/patterns/libr… \n https://www.ravelry.com/patterns/libr…  \nhttps://www.ravelry.com/patterns/libr…  \nhttps://www.ravelry.com/patterns/libr… \n https://www.ravelry.com/patterns/libr… \n https://blackstone-designs.com/moose-…  \nhttps://www.passionatecrafter.com/sno…  \nKnitted Patterns:  \nhttps://knittingpattern.org/christmas…  \nhttps://www.ravelry.com/patterns/libr…  \nhttps://www.ravelry.com/patterns/libr… \n https://www.ravelry.com/patterns/libr…  \nhttps://www.ravelry.com/patterns/libr…
URL:https://dawnyarndoll.com/index.php/event/just-bee-stitchin-cup-cozies/
CATEGORIES:Bee Creative Crafts Lives
END:VEVENT
BEGIN:VEVENT
DTSTART;TZID=America/Los_Angeles:20231214T180000
DTEND;TZID=America/Los_Angeles:20231214T200000
DTSTAMP:20260424T092918
CREATED:20231214T025914Z
LAST-MODIFIED:20231214T025914Z
UID:330-1702576800-1702584000@dawnyarndoll.com
SUMMARY:Off the Hook: Episode 65 On Bee Creative Crafts
DESCRIPTION:
URL:https://dawnyarndoll.com/index.php/event/off-the-hook-episode-65-on-bee-creative-crafts/
CATEGORIES:Bee Creative Crafts Lives
END:VEVENT
BEGIN:VEVENT
DTSTART;TZID=America/Los_Angeles:20231221T180000
DTEND;TZID=America/Los_Angeles:20231221T190000
DTSTAMP:20260424T092918
CREATED:20231218T004548Z
LAST-MODIFIED:20231218T004548Z
UID:762-1703181600-1703185200@dawnyarndoll.com
SUMMARY:Off the Hook: Episode 66 / Color Pooling on Bee Creative Crafts
DESCRIPTION:
URL:https://dawnyarndoll.com/index.php/event/off-the-hook-episode-66-color-pooling-on-bee-creative-crafts/
CATEGORIES:Bee Creative Crafts Lives
END:VEVENT
BEGIN:VEVENT
DTSTART;TZID=America/Los_Angeles:20231223T160000
DTEND;TZID=America/Los_Angeles:20231223T170000
DTSTAMP:20260424T092918
CREATED:20231223T211833Z
LAST-MODIFIED:20231223T211833Z
UID:788-1703347200-1703350800@dawnyarndoll.com
SUMMARY:THANK YOU!! Pop-Up Live
DESCRIPTION:
URL:https://dawnyarndoll.com/index.php/event/thank-you-pop-up-live/
CATEGORIES:Bee Creative Crafts Lives
END:VEVENT
BEGIN:VEVENT
DTSTART;TZID=America/Los_Angeles:20231228T180000
DTEND;TZID=America/Los_Angeles:20231228T200000
DTSTAMP:20260424T092918
CREATED:20231228T061134Z
LAST-MODIFIED:20231228T061134Z
UID:795-1703786400-1703793600@dawnyarndoll.com
SUMMARY:Off the Hook: Episode 67 / Color Pooling part 2
DESCRIPTION:
URL:https://dawnyarndoll.com/index.php/event/off-the-hook-episode-67-color-pooling-part-2/
CATEGORIES:Bee Creative Crafts Lives
END:VEVENT
END:VCALENDAR