BEGIN:VCALENDAR
VERSION:2.0
PRODID:-//Dawn Yarn Doll - ECPv6.15.20//NONSGML v1.0//EN
CALSCALE:GREGORIAN
METHOD:PUBLISH
X-ORIGINAL-URL:https://dawnyarndoll.com
X-WR-CALDESC:Events for Dawn Yarn Doll
REFRESH-INTERVAL;VALUE=DURATION:PT1H
X-Robots-Tag:noindex
X-PUBLISHED-TTL:PT1H
BEGIN:VTIMEZONE
TZID:America/Los_Angeles
BEGIN:DAYLIGHT
TZOFFSETFROM:-0800
TZOFFSETTO:-0700
TZNAME:PDT
DTSTART:20230312T100000
END:DAYLIGHT
BEGIN:STANDARD
TZOFFSETFROM:-0700
TZOFFSETTO:-0800
TZNAME:PST
DTSTART:20231105T090000
END:STANDARD
BEGIN:DAYLIGHT
TZOFFSETFROM:-0800
TZOFFSETTO:-0700
TZNAME:PDT
DTSTART:20240310T100000
END:DAYLIGHT
BEGIN:STANDARD
TZOFFSETFROM:-0700
TZOFFSETTO:-0800
TZNAME:PST
DTSTART:20241103T090000
END:STANDARD
BEGIN:DAYLIGHT
TZOFFSETFROM:-0800
TZOFFSETTO:-0700
TZNAME:PDT
DTSTART:20250309T100000
END:DAYLIGHT
BEGIN:STANDARD
TZOFFSETFROM:-0700
TZOFFSETTO:-0800
TZNAME:PST
DTSTART:20251102T090000
END:STANDARD
END:VTIMEZONE
BEGIN:VEVENT
DTSTART;TZID=America/Los_Angeles:20240103T190000
DTEND;TZID=America/Los_Angeles:20240103T220000
DTSTAMP:20260422T053925
CREATED:20231223T212304Z
LAST-MODIFIED:20231223T212304Z
UID:790-1704308400-1704319200@dawnyarndoll.com
SUMMARY:Wednesday 1-3-2023 West Coast Wednesday Wild WIP's Holiday Party
DESCRIPTION:
URL:https://dawnyarndoll.com/index.php/event/wednesday-1-3-2023-west-coast-wednesday-wild-wips-holiday-party/
CATEGORIES:Dawn Yarn Doll Live,Margies Crafty Corner
END:VEVENT
BEGIN:VEVENT
DTSTART;TZID=America/Los_Angeles:20240104T140000
DTEND;TZID=America/Los_Angeles:20240104T150000
DTSTAMP:20260422T053925
CREATED:20240104T050142Z
LAST-MODIFIED:20240104T050142Z
UID:814-1704376800-1704380400@dawnyarndoll.com
SUMMARY:Coffee and Chat along on Margies Crafty Corner
DESCRIPTION:
URL:https://dawnyarndoll.com/index.php/event/coffee-and-chat-along-on-margies-crafty-corner/
CATEGORIES:Margies Crafty Corner
END:VEVENT
BEGIN:VEVENT
DTSTART;TZID=America/Los_Angeles:20240110T190000
DTEND;TZID=America/Los_Angeles:20240110T220000
DTSTAMP:20260422T053925
CREATED:20240102T233637Z
LAST-MODIFIED:20240102T233637Z
UID:808-1704913200-1704924000@dawnyarndoll.com
SUMMARY:Wednesday 1-10-2024 West Coast Wednesday Wild WIP's and Crochet Chat with Friends
DESCRIPTION:
URL:https://dawnyarndoll.com/index.php/event/wednesday-1-10-2024-west-coast-wednesday-wild-wips-and-crochet-chat-with-friends/
CATEGORIES:Dawn Yarn Doll Live,Margies Crafty Corner
END:VEVENT
BEGIN:VEVENT
DTSTART;TZID=America/Los_Angeles:20240111T140000
DTEND;TZID=America/Los_Angeles:20240111T150000
DTSTAMP:20260422T053925
CREATED:20240104T050307Z
LAST-MODIFIED:20240105T005729Z
UID:816-1704981600-1704985200@dawnyarndoll.com
SUMMARY:Coffee and Chat along on Margies Crafty Corner
DESCRIPTION:
URL:https://dawnyarndoll.com/index.php/event/coffee-and-chat-along-on-margies-crafty-corner-2/
CATEGORIES:Margies Crafty Corner
END:VEVENT
BEGIN:VEVENT
DTSTART;TZID=America/Los_Angeles:20240117T190000
DTEND;TZID=America/Los_Angeles:20240117T210000
DTSTAMP:20260422T053925
CREATED:20240109T042922Z
LAST-MODIFIED:20240109T042922Z
UID:1012-1705518000-1705525200@dawnyarndoll.com
SUMMARY:Wednesday 1-17-2024 West Coast Wednesday Wild WIP's and Crochet Chat with Friends
DESCRIPTION:
URL:https://dawnyarndoll.com/index.php/event/wednesday-1-17-2024-west-coast-wednesday-wild-wips-and-crochet-chat-with-friends/
CATEGORIES:Dawn Yarn Doll Live,Margies Crafty Corner
END:VEVENT
BEGIN:VEVENT
DTSTART;TZID=America/Los_Angeles:20240118T140000
DTEND;TZID=America/Los_Angeles:20240118T150000
DTSTAMP:20260422T053925
CREATED:20240104T050414Z
LAST-MODIFIED:20240105T005823Z
UID:818-1705586400-1705590000@dawnyarndoll.com
SUMMARY:Coffee and Chat along on Margies Crafty Corner
DESCRIPTION:
URL:https://dawnyarndoll.com/index.php/event/coffee-and-chat-along-on-margies-crafty-corner-3/
CATEGORIES:Margies Crafty Corner
END:VEVENT
BEGIN:VEVENT
DTSTART;TZID=America/Los_Angeles:20240124T190000
DTEND;TZID=America/Los_Angeles:20240124T220000
DTSTAMP:20260422T053925
CREATED:20240113T042221Z
LAST-MODIFIED:20240113T042221Z
UID:1026-1706122800-1706133600@dawnyarndoll.com
SUMMARY:Wednesday 1-24-2024 West Coast Wednesday Wild WIP's and Crochet Chat with Friends
DESCRIPTION:
URL:https://dawnyarndoll.com/index.php/event/wednesday-1-24-2024-west-coast-wednesday-wild-wips-and-crochet-chat-with-friends/
CATEGORIES:Dawn Yarn Doll Live,Margies Crafty Corner
END:VEVENT
BEGIN:VEVENT
DTSTART;TZID=America/Los_Angeles:20240125T140000
DTEND;TZID=America/Los_Angeles:20240125T150000
DTSTAMP:20260422T053925
CREATED:20240105T010003Z
LAST-MODIFIED:20240105T010003Z
UID:840-1706191200-1706194800@dawnyarndoll.com
SUMMARY:Coffee and Chat along on Margies Crafty Corner
DESCRIPTION:
URL:https://dawnyarndoll.com/index.php/event/coffee-and-chat-along-on-margies-crafty-corner-4/
CATEGORIES:Margies Crafty Corner
END:VEVENT
BEGIN:VEVENT
DTSTART;TZID=America/Los_Angeles:20240131T210000
DTEND;TZID=America/Los_Angeles:20240131T230000
DTSTAMP:20260422T053925
CREATED:20240118T184838Z
LAST-MODIFIED:20240118T184838Z
UID:1046-1706734800-1706742000@dawnyarndoll.com
SUMMARY:Wednesday 1-31-2024 West Coast Wednesday Wild WIP's and Crochet Chat with Friends
DESCRIPTION:
URL:https://dawnyarndoll.com/index.php/event/wednesday-1-31-2024-west-coast-wednesday-wild-wips-and-crochet-chat-with-friends/
CATEGORIES:Dawn Yarn Doll Live,Margies Crafty Corner
END:VEVENT
END:VCALENDAR