BEGIN:VCALENDAR
VERSION:2.0
PRODID:-//Dawn Yarn Doll - ECPv6.15.20//NONSGML v1.0//EN
CALSCALE:GREGORIAN
METHOD:PUBLISH
X-WR-CALNAME:Dawn Yarn Doll
X-ORIGINAL-URL:https://dawnyarndoll.com
X-WR-CALDESC:Events for Dawn Yarn Doll
REFRESH-INTERVAL;VALUE=DURATION:PT1H
X-Robots-Tag:noindex
X-PUBLISHED-TTL:PT1H
BEGIN:VTIMEZONE
TZID:America/Los_Angeles
BEGIN:DAYLIGHT
TZOFFSETFROM:-0800
TZOFFSETTO:-0700
TZNAME:PDT
DTSTART:20230312T100000
END:DAYLIGHT
BEGIN:STANDARD
TZOFFSETFROM:-0700
TZOFFSETTO:-0800
TZNAME:PST
DTSTART:20231105T090000
END:STANDARD
BEGIN:DAYLIGHT
TZOFFSETFROM:-0800
TZOFFSETTO:-0700
TZNAME:PDT
DTSTART:20240310T100000
END:DAYLIGHT
BEGIN:STANDARD
TZOFFSETFROM:-0700
TZOFFSETTO:-0800
TZNAME:PST
DTSTART:20241103T090000
END:STANDARD
BEGIN:DAYLIGHT
TZOFFSETFROM:-0800
TZOFFSETTO:-0700
TZNAME:PDT
DTSTART:20250309T100000
END:DAYLIGHT
BEGIN:STANDARD
TZOFFSETFROM:-0700
TZOFFSETTO:-0800
TZNAME:PST
DTSTART:20251102T090000
END:STANDARD
END:VTIMEZONE
BEGIN:VEVENT
DTSTART;TZID=America/Los_Angeles:20240720T170000
DTEND;TZID=America/Los_Angeles:20240720T180000
DTSTAMP:20260419T152346
CREATED:20240704T030205Z
LAST-MODIFIED:20240704T030205Z
UID:1806-1721494800-1721498400@dawnyarndoll.com
SUMMARY:Chat (July 20th) on Little Lego Yarndude
DESCRIPTION:
URL:https://dawnyarndoll.com/index.php/event/chat-july-20th-on-little-lego-yarndude/
END:VEVENT
BEGIN:VEVENT
DTSTART;TZID=America/Los_Angeles:20240719T190000
DTEND;TZID=America/Los_Angeles:20240719T210000
DTSTAMP:20260419T152346
CREATED:20240716T015458Z
LAST-MODIFIED:20240716T015458Z
UID:1872-1721415600-1721422800@dawnyarndoll.com
SUMMARY:July Full Moon Celebration on Jamie Marie Crafts
DESCRIPTION:
URL:https://dawnyarndoll.com/index.php/event/july-full-moon-celebration-on-jamie-marie-crafts/
END:VEVENT
BEGIN:VEVENT
DTSTART;TZID=America/Los_Angeles:20240718T150000
DTEND;TZID=America/Los_Angeles:20240718T170000
DTSTAMP:20260419T152346
CREATED:20240526T012826Z
LAST-MODIFIED:20240526T012826Z
UID:1581-1721314800-1721322000@dawnyarndoll.com
SUMMARY:Lets Chit Chat and More - MDL Crochet
DESCRIPTION:
URL:https://dawnyarndoll.com/index.php/event/lets-chit-chat-and-more-mdl-crochet-12/
END:VEVENT
BEGIN:VEVENT
DTSTART;TZID=America/Los_Angeles:20240718T140000
DTEND;TZID=America/Los_Angeles:20240718T160000
DTSTAMP:20260419T152346
CREATED:20240701T193642Z
LAST-MODIFIED:20240701T193642Z
UID:1797-1721311200-1721318400@dawnyarndoll.com
SUMMARY:Coffee and Chatalong with Margie's Crafty Corner
DESCRIPTION:
URL:https://dawnyarndoll.com/index.php/event/coffee-and-chatalong-with-margies-crafty-corner-2/
CATEGORIES:Margies Crafty Corner
END:VEVENT
BEGIN:VEVENT
DTSTART;TZID=America/Los_Angeles:20240718T110000
DTEND;TZID=America/Los_Angeles:20240718T130000
DTSTAMP:20260419T152346
CREATED:20240713T005708Z
LAST-MODIFIED:20240713T005708Z
UID:1826-1721300400-1721307600@dawnyarndoll.com
SUMMARY:Live with Paula Myint on Diana D
DESCRIPTION:
URL:https://dawnyarndoll.com/index.php/event/live-with-paula-myint-on-diana-d/
END:VEVENT
BEGIN:VEVENT
DTSTART;TZID=America/Los_Angeles:20240717T190000
DTEND;TZID=America/Los_Angeles:20240717T220000
DTSTAMP:20260419T152346
CREATED:20240628T184723Z
LAST-MODIFIED:20240628T184723Z
UID:1790-1721242800-1721253600@dawnyarndoll.com
SUMMARY:Wednesday 7-17-2024 West Coast Wednesday Yarn\, WIP's and Crochet Chat with Friends
DESCRIPTION:
URL:https://dawnyarndoll.com/index.php/event/wednesday-7-17-2024-west-coast-wednesday-yarn-wips-and-crochet-chat-with-friends/
CATEGORIES:Dawn Yarn Doll Live
END:VEVENT
BEGIN:VEVENT
DTSTART;TZID=America/Los_Angeles:20240717T150000
DTEND;TZID=America/Los_Angeles:20240717T170000
DTSTAMP:20260419T152346
CREATED:20240716T015332Z
LAST-MODIFIED:20240716T015332Z
UID:1870-1721228400-1721235600@dawnyarndoll.com
SUMMARY:Crafting with the Spirit Inspiration of the Cat on Jamie Marie Crafts
DESCRIPTION:
URL:https://dawnyarndoll.com/index.php/event/crafting-with-the-spirit-inspiration-of-the-cat-on-jamie-marie-crafts/
END:VEVENT
BEGIN:VEVENT
DTSTART;TZID=America/Los_Angeles:20240716T150000
DTEND;TZID=America/Los_Angeles:20240716T170000
DTSTAMP:20260419T152346
CREATED:20240622T184917Z
LAST-MODIFIED:20240622T184917Z
UID:1731-1721142000-1721149200@dawnyarndoll.com
SUMMARY:Tuesday Chit Chat 7/16/24 on Kiwi's Crochet Corner
DESCRIPTION:
URL:https://dawnyarndoll.com/index.php/event/tuesday-chit-chat-7-16-24-on-kiwis-crochet-corner/
CATEGORIES:Kiwi's Crochet Corner
END:VEVENT
BEGIN:VEVENT
DTSTART;TZID=America/Los_Angeles:20240715T093000
DTEND;TZID=America/Los_Angeles:20240715T113000
DTSTAMP:20260419T152346
CREATED:20240710T203540Z
LAST-MODIFIED:20240710T203540Z
UID:1817-1721035800-1721043000@dawnyarndoll.com
SUMMARY:Monday 7-15-2024 Members LiveStream Yarn Chat and Tea After Hobbii BINGO
DESCRIPTION:
URL:https://dawnyarndoll.com/index.php/event/monday-7-15-2024-members-livestream-yarn-chat-and-tea-after-hobbii-bingo/
CATEGORIES:Dawn Yarn Doll Live
END:VEVENT
BEGIN:VEVENT
DTSTART;TZID=America/Los_Angeles:20240715T080000
DTEND;TZID=America/Los_Angeles:20240715T100000
DTSTAMP:20260419T152346
CREATED:20240710T203443Z
LAST-MODIFIED:20240710T203443Z
UID:1816-1721030400-1721037600@dawnyarndoll.com
SUMMARY:Monday 7-15-2024 HOBBII BINGO\, Tea and Yarny talk with Friends
DESCRIPTION:
URL:https://dawnyarndoll.com/index.php/event/monday-7-15-2024-hobbii-bingo-tea-and-yarny-talk-with-friends/
CATEGORIES:Dawn Yarn Doll Live
END:VEVENT
BEGIN:VEVENT
DTSTART;TZID=America/Los_Angeles:20240714T170000
DTEND;TZID=America/Los_Angeles:20240714T190000
DTSTAMP:20260419T152346
CREATED:20240625T212630Z
LAST-MODIFIED:20240625T212630Z
UID:1776-1720976400-1720983600@dawnyarndoll.com
SUMMARY:Sunday Fun Day ~ zu Hause with Michi & Friends
DESCRIPTION:
URL:https://dawnyarndoll.com/index.php/event/sunday-fun-day-zu-hause-with-michi-friends-9/
CATEGORIES:Michi's Crochet Nook
END:VEVENT
BEGIN:VEVENT
DTSTART;TZID=America/Los_Angeles:20240713T170000
DTEND;TZID=America/Los_Angeles:20240713T180000
DTSTAMP:20260419T152346
CREATED:20240704T025915Z
LAST-MODIFIED:20240704T025915Z
UID:1804-1720890000-1720893600@dawnyarndoll.com
SUMMARY:Chat (July 13th) on Little Lego Yarndude
DESCRIPTION:
URL:https://dawnyarndoll.com/index.php/event/chat-july-13th-on-little-lego-yarndude/
END:VEVENT
BEGIN:VEVENT
DTSTART;TZID=America/Los_Angeles:20240712T120000
DTEND;TZID=America/Los_Angeles:20240712T140000
DTSTAMP:20260419T152346
CREATED:20240624T160354Z
LAST-MODIFIED:20240624T160354Z
UID:1768-1720785600-1720792800@dawnyarndoll.com
SUMMARY:Art Junkie Live Art
DESCRIPTION:
URL:https://dawnyarndoll.com/index.php/event/art-junkie-live-art-5/
CATEGORIES:Art Junkie - Crochet and Mixed Media Arts
END:VEVENT
BEGIN:VEVENT
DTSTART;TZID=America/Los_Angeles:20240711T150000
DTEND;TZID=America/Los_Angeles:20240711T170000
DTSTAMP:20260419T152346
CREATED:20240526T012648Z
LAST-MODIFIED:20240526T012648Z
UID:1579-1720710000-1720717200@dawnyarndoll.com
SUMMARY:Lets Chit Chat and More - MDL Crochet
DESCRIPTION:
URL:https://dawnyarndoll.com/index.php/event/lets-chit-chat-and-more-mdl-crochet-11/
END:VEVENT
BEGIN:VEVENT
DTSTART;TZID=America/Los_Angeles:20240710T190000
DTEND;TZID=America/Los_Angeles:20240710T220000
DTSTAMP:20260419T152346
CREATED:20240624T154005Z
LAST-MODIFIED:20240624T154005Z
UID:1745-1720638000-1720648800@dawnyarndoll.com
SUMMARY:Wednesday 7-10-2024 West Coast Wednesday Yarn\, WIP's and Crochet Chat with Friends
DESCRIPTION:
URL:https://dawnyarndoll.com/index.php/event/wednesday-7-10-2024-west-coast-wednesday-yarn-wips-and-crochet-chat-with-friends/
CATEGORIES:Dawn Yarn Doll Live
END:VEVENT
BEGIN:VEVENT
DTSTART;TZID=America/Los_Angeles:20240710T150000
DTEND;TZID=America/Los_Angeles:20240710T170000
DTSTAMP:20260419T152346
CREATED:20240710T202834Z
LAST-MODIFIED:20240710T202834Z
UID:1811-1720623600-1720630800@dawnyarndoll.com
SUMMARY:Crafting with the Hummingbird Spirit on Jamie Marie Crafts
DESCRIPTION:
URL:https://dawnyarndoll.com/index.php/event/crafting-with-the-hummingbird-spirit-on-jamie-marie-crafts/
END:VEVENT
BEGIN:VEVENT
DTSTART;TZID=America/Los_Angeles:20240709T150000
DTEND;TZID=America/Los_Angeles:20240709T170000
DTSTAMP:20260419T152346
CREATED:20240622T184719Z
LAST-MODIFIED:20240622T184719Z
UID:1728-1720537200-1720544400@dawnyarndoll.com
SUMMARY:It's Casey's Birthday 7/9/24 on Kiwi's Crochet Corner
DESCRIPTION:
URL:https://dawnyarndoll.com/index.php/event/its-caseys-birthday-7-9-24-on-kiwis-crochet-corner/
CATEGORIES:Kiwi's Crochet Corner
END:VEVENT
BEGIN:VEVENT
DTSTART;TZID=America/Los_Angeles:20240708T170000
DTEND;TZID=America/Los_Angeles:20240708T190000
DTSTAMP:20260419T152346
CREATED:20240624T160516Z
LAST-MODIFIED:20240624T160516Z
UID:1770-1720458000-1720465200@dawnyarndoll.com
SUMMARY:Art Junkie Live from the Lounge Chair
DESCRIPTION:
URL:https://dawnyarndoll.com/index.php/event/art-junkie-live-from-the-lounge-chair/
CATEGORIES:Art Junkie - Crochet and Mixed Media Arts
END:VEVENT
BEGIN:VEVENT
DTSTART;TZID=America/Los_Angeles:20240708T093000
DTEND;TZID=America/Los_Angeles:20240708T113000
DTSTAMP:20260419T152346
CREATED:20240628T184256Z
LAST-MODIFIED:20240628T184256Z
UID:1785-1720431000-1720438200@dawnyarndoll.com
SUMMARY:Monday 7-8-2024 Members LiveStream Yarn Chat and Tea After Hobbii BINGO
DESCRIPTION:
URL:https://dawnyarndoll.com/index.php/event/monday-7-8-2024-members-livestream-yarn-chat-and-tea-after-hobbii-bingo/
CATEGORIES:Dawn Yarn Doll Live
END:VEVENT
BEGIN:VEVENT
DTSTART;TZID=America/Los_Angeles:20240708T080000
DTEND;TZID=America/Los_Angeles:20240708T100000
DTSTAMP:20260419T152346
CREATED:20240628T184058Z
LAST-MODIFIED:20240628T184058Z
UID:1784-1720425600-1720432800@dawnyarndoll.com
SUMMARY:Monday 7-8-2024 HOBBII BINGO\, Tea and Yarny talk with Friends
DESCRIPTION:
URL:https://dawnyarndoll.com/index.php/event/monday-7-8-2024-hobbii-bingo-tea-and-yarny-talk-with-friends/
CATEGORIES:Dawn Yarn Doll Live
END:VEVENT
BEGIN:VEVENT
DTSTART;TZID=America/Los_Angeles:20240707T170000
DTEND;TZID=America/Los_Angeles:20240707T190000
DTSTAMP:20260419T152346
CREATED:20240625T212343Z
LAST-MODIFIED:20240625T212343Z
UID:1774-1720371600-1720378800@dawnyarndoll.com
SUMMARY:Sunday Fun Day ~ zu Hause with Michi & Friends
DESCRIPTION:
URL:https://dawnyarndoll.com/index.php/event/sunday-fun-day-zu-hause-with-michi-friends-8/
CATEGORIES:Michi's Crochet Nook
END:VEVENT
BEGIN:VEVENT
DTSTART;TZID=America/Los_Angeles:20240706T170000
DTEND;TZID=America/Los_Angeles:20240706T180000
DTSTAMP:20260419T152346
CREATED:20240704T025738Z
LAST-MODIFIED:20240704T025738Z
UID:1802-1720285200-1720288800@dawnyarndoll.com
SUMMARY:StreamLabs Test & Chat on Little Lego Yarndude
DESCRIPTION:
URL:https://dawnyarndoll.com/index.php/event/streamlabs-test-chat-on-little-lego-yarndude/
END:VEVENT
BEGIN:VEVENT
DTSTART;TZID=America/Los_Angeles:20240705T120000
DTEND;TZID=America/Los_Angeles:20240705T140000
DTSTAMP:20260419T152346
CREATED:20240624T160206Z
LAST-MODIFIED:20240624T160206Z
UID:1765-1720180800-1720188000@dawnyarndoll.com
SUMMARY:Art Junkie Live Art
DESCRIPTION:
URL:https://dawnyarndoll.com/index.php/event/art-junkie-live-art-4/
CATEGORIES:Art Junkie - Crochet and Mixed Media Arts
END:VEVENT
BEGIN:VEVENT
DTSTART;TZID=America/Los_Angeles:20240704T150000
DTEND;TZID=America/Los_Angeles:20240704T170000
DTSTAMP:20260419T152346
CREATED:20240526T012505Z
LAST-MODIFIED:20240526T012505Z
UID:1577-1720105200-1720112400@dawnyarndoll.com
SUMMARY:Lets Chit Chat and More - MDL Crochet
DESCRIPTION:
URL:https://dawnyarndoll.com/index.php/event/lets-chit-chat-and-more-mdl-crochet-10/
END:VEVENT
BEGIN:VEVENT
DTSTART;TZID=America/Los_Angeles:20240704T140000
DTEND;TZID=America/Los_Angeles:20240704T160000
DTSTAMP:20260419T152347
CREATED:20240701T193445Z
LAST-MODIFIED:20240701T193445Z
UID:1795-1720101600-1720108800@dawnyarndoll.com
SUMMARY:Coffee and Chatalong with Margie's Crafty Corner
DESCRIPTION:
URL:https://dawnyarndoll.com/index.php/event/coffee-and-chatalong-with-margies-crafty-corner/
CATEGORIES:Margies Crafty Corner
END:VEVENT
BEGIN:VEVENT
DTSTART;TZID=America/Los_Angeles:20240703T190000
DTEND;TZID=America/Los_Angeles:20240703T220000
DTSTAMP:20260419T152347
CREATED:20240624T153603Z
LAST-MODIFIED:20240624T153737Z
UID:1739-1720033200-1720044000@dawnyarndoll.com
SUMMARY:Wednesday 7-03.-2024 West Coast Wednesday Yarn\, WIP's and Crochet Chat with Friends
DESCRIPTION:
URL:https://dawnyarndoll.com/index.php/event/wednesday-6-26-2024-west-coast-wednesday-yarn-wips-and-crochet-chat-with-friends-copy/
CATEGORIES:Dawn Yarn Doll Live
END:VEVENT
BEGIN:VEVENT
DTSTART;TZID=America/Los_Angeles:20240702T150000
DTEND;TZID=America/Los_Angeles:20240702T170000
DTSTAMP:20260419T152347
CREATED:20240622T184543Z
LAST-MODIFIED:20240622T184543Z
UID:1726-1719932400-1719939600@dawnyarndoll.com
SUMMARY:Tuesday Chit Chat 7/2/24 on Kiwi's Crochet Corner
DESCRIPTION:
URL:https://dawnyarndoll.com/index.php/event/tuesday-chit-chat-7-2-24-on-kiwis-crochet-corner/
CATEGORIES:Kiwi's Crochet Corner
END:VEVENT
BEGIN:VEVENT
DTSTART;TZID=America/Los_Angeles:20240701T170000
DTEND;TZID=America/Los_Angeles:20240701T190000
DTSTAMP:20260419T152347
CREATED:20240701T162028Z
LAST-MODIFIED:20240701T162028Z
UID:1793-1719853200-1719860400@dawnyarndoll.com
SUMMARY:Animal Rescue Charity Auction 7/1 on Bag-O0Day Crochet
DESCRIPTION:
URL:https://dawnyarndoll.com/index.php/event/animal-rescue-charity-auction-7-1-on-bag-o0day-crochet/
END:VEVENT
BEGIN:VEVENT
DTSTART;TZID=America/Los_Angeles:20240701T150000
DTEND;TZID=America/Los_Angeles:20240701T160000
DTSTAMP:20260419T152347
CREATED:20240624T232904Z
LAST-MODIFIED:20240624T232904Z
UID:1772-1719846000-1719849600@dawnyarndoll.com
SUMMARY:Monday Musings & Updates - J. Took Moonlight Moth Creations
DESCRIPTION:
URL:https://dawnyarndoll.com/index.php/event/monday-musings-updates-j-took-moonlight-moth-creations/
END:VEVENT
BEGIN:VEVENT
DTSTART;TZID=America/Los_Angeles:20240701T120000
DTEND;TZID=America/Los_Angeles:20240701T140000
DTSTAMP:20260419T152347
CREATED:20240624T155951Z
LAST-MODIFIED:20240624T155951Z
UID:1762-1719835200-1719842400@dawnyarndoll.com
SUMMARY:Art Junkies Live Canada Day Party 🇨🇦
DESCRIPTION:
URL:https://dawnyarndoll.com/index.php/event/art-junkies-live-canada-day-party-%f0%9f%87%a8%f0%9f%87%a6/
CATEGORIES:Art Junkie - Crochet and Mixed Media Arts
END:VEVENT
END:VCALENDAR