BEGIN:VCALENDAR
VERSION:2.0
PRODID:-//Dawn Yarn Doll - ECPv6.15.20//NONSGML v1.0//EN
CALSCALE:GREGORIAN
METHOD:PUBLISH
X-WR-CALNAME:Dawn Yarn Doll
X-ORIGINAL-URL:https://dawnyarndoll.com
X-WR-CALDESC:Events for Dawn Yarn Doll
REFRESH-INTERVAL;VALUE=DURATION:PT1H
X-Robots-Tag:noindex
X-PUBLISHED-TTL:PT1H
BEGIN:VTIMEZONE
TZID:America/Los_Angeles
BEGIN:DAYLIGHT
TZOFFSETFROM:-0800
TZOFFSETTO:-0700
TZNAME:PDT
DTSTART:20230312T100000
END:DAYLIGHT
BEGIN:STANDARD
TZOFFSETFROM:-0700
TZOFFSETTO:-0800
TZNAME:PST
DTSTART:20231105T090000
END:STANDARD
BEGIN:DAYLIGHT
TZOFFSETFROM:-0800
TZOFFSETTO:-0700
TZNAME:PDT
DTSTART:20240310T100000
END:DAYLIGHT
BEGIN:STANDARD
TZOFFSETFROM:-0700
TZOFFSETTO:-0800
TZNAME:PST
DTSTART:20241103T090000
END:STANDARD
BEGIN:DAYLIGHT
TZOFFSETFROM:-0800
TZOFFSETTO:-0700
TZNAME:PDT
DTSTART:20250309T100000
END:DAYLIGHT
BEGIN:STANDARD
TZOFFSETFROM:-0700
TZOFFSETTO:-0800
TZNAME:PST
DTSTART:20251102T090000
END:STANDARD
END:VTIMEZONE
BEGIN:VEVENT
DTSTART;TZID=America/Los_Angeles:20240626T090000
DTEND;TZID=America/Los_Angeles:20240626T100000
DTSTAMP:20260420T000000
CREATED:20240423T223640Z
LAST-MODIFIED:20240423T223640Z
UID:1460-1719392400-1719396000@dawnyarndoll.com
SUMMARY:Softball Susie Twisted Roots - Dye results & Bingo.
DESCRIPTION:
URL:https://dawnyarndoll.com/index.php/event/softball-susie-twisted-roots-dye-results-bingo-8/
END:VEVENT
BEGIN:VEVENT
DTSTART;TZID=America/Los_Angeles:20240626T080000
DTEND;TZID=America/Los_Angeles:20240626T100000
DTSTAMP:20260420T000000
CREATED:20240603T161031Z
LAST-MODIFIED:20240603T161031Z
UID:1646-1719388800-1719396000@dawnyarndoll.com
SUMMARY:Wacky Wednesday Happy Mail - Ms C's Cottage
DESCRIPTION:
URL:https://dawnyarndoll.com/index.php/event/wacky-wednesday-happy-mail-ms-cs-cottage-4/
CATEGORIES:Ms C's Cottage
END:VEVENT
BEGIN:VEVENT
DTSTART;TZID=America/Los_Angeles:20240625T150000
DTEND;TZID=America/Los_Angeles:20240625T170000
DTSTAMP:20260420T000000
CREATED:20240609T164554Z
LAST-MODIFIED:20240609T164554Z
UID:1697-1719327600-1719334800@dawnyarndoll.com
SUMMARY:Tuesday Chit Chat 6/25/24 - Kiwi's Crochet Corner
DESCRIPTION:
URL:https://dawnyarndoll.com/index.php/event/tuesday-chit-chat-6-25-24-kiwis-crochet-corner/
CATEGORIES:Kiwi's Crochet Corner
END:VEVENT
BEGIN:VEVENT
DTSTART;TZID=America/Los_Angeles:20240624T170000
DTEND;TZID=America/Los_Angeles:20240624T190000
DTSTAMP:20260420T000000
CREATED:20240603T154723Z
LAST-MODIFIED:20240603T154723Z
UID:1632-1719248400-1719255600@dawnyarndoll.com
SUMMARY:Live From The Lounge Chair - Art Junkie with Mama Wench
DESCRIPTION:
URL:https://dawnyarndoll.com/index.php/event/live-from-the-lounge-chair-art-junkie-with-mama-wench/
CATEGORIES:Art Junkie - Crochet and Mixed Media Arts
END:VEVENT
BEGIN:VEVENT
DTSTART;TZID=America/Los_Angeles:20240624T093000
DTEND;TZID=America/Los_Angeles:20240624T113000
DTSTAMP:20260420T000000
CREATED:20240624T154558Z
LAST-MODIFIED:20240624T154558Z
UID:1748-1719221400-1719228600@dawnyarndoll.com
SUMMARY:Monday 6-24-2024 Members LiveStream Yarn Chat and Tea After Hobbii BINGO
DESCRIPTION:
URL:https://dawnyarndoll.com/index.php/event/monday-6-24-2024-members-livestream-yarn-chat-and-tea-after-hobbii-bingo/
CATEGORIES:Dawn Yarn Doll Live
END:VEVENT
BEGIN:VEVENT
DTSTART;TZID=America/Los_Angeles:20240624T080000
DTEND;TZID=America/Los_Angeles:20240624T100000
DTSTAMP:20260420T000000
CREATED:20240624T154410Z
LAST-MODIFIED:20240624T154517Z
UID:1747-1719216000-1719223200@dawnyarndoll.com
SUMMARY:Monday 6-24-2024 HOBBII BINGO\, Tea and Yarny talk with Friends
DESCRIPTION:
URL:https://dawnyarndoll.com/index.php/event/monday-6-24-2024-hobbii-bingo-tea-and-yarny-talk-with-friends/
CATEGORIES:Dawn Yarn Doll Live
END:VEVENT
BEGIN:VEVENT
DTSTART;TZID=America/Los_Angeles:20240623T183000
DTEND;TZID=America/Los_Angeles:20240623T203000
DTSTAMP:20260420T000000
CREATED:20240603T153514Z
LAST-MODIFIED:20240603T153514Z
UID:1618-1719167400-1719174600@dawnyarndoll.com
SUMMARY:WeekEnd WindUp Sunday June 23
DESCRIPTION:
URL:https://dawnyarndoll.com/index.php/event/weekend-windup-sunday-june-23/
END:VEVENT
BEGIN:VEVENT
DTSTART;TZID=America/Los_Angeles:20240623T170000
DTEND;TZID=America/Los_Angeles:20240623T190000
DTSTAMP:20260420T000000
CREATED:20240612T212031Z
LAST-MODIFIED:20240612T212031Z
UID:1711-1719162000-1719169200@dawnyarndoll.com
SUMMARY:Sunday Fun Day ~ zu Hause with Michi & Friends
DESCRIPTION:
URL:https://dawnyarndoll.com/index.php/event/sunday-fun-day-zu-hause-with-michi-friends-6/
CATEGORIES:Michi's Crochet Nook
END:VEVENT
BEGIN:VEVENT
DTSTART;TZID=America/Los_Angeles:20240623T100000
DTEND;TZID=America/Los_Angeles:20240623T120000
DTSTAMP:20260420T000000
CREATED:20240526T204025Z
LAST-MODIFIED:20240526T204025Z
UID:1594-1719136800-1719144000@dawnyarndoll.com
SUMMARY:Sunday Chat and choosing a new oracle card inspiration on Jamie Marie Crafts
DESCRIPTION:
URL:https://dawnyarndoll.com/index.php/event/sunday-chat-and-choosing-a-new-oracle-card-inspiration-on-jamie-marie-crafts-3/
END:VEVENT
BEGIN:VEVENT
DTSTART;TZID=America/Los_Angeles:20240623T090000
DTEND;TZID=America/Los_Angeles:20240623T110000
DTSTAMP:20260420T000000
CREATED:20240603T160923Z
LAST-MODIFIED:20240603T160923Z
UID:1644-1719133200-1719140400@dawnyarndoll.com
SUMMARY:Somebunny Sunday #25
DESCRIPTION:
URL:https://dawnyarndoll.com/index.php/event/somebunny-sunday-25/
CATEGORIES:Ms C's Cottage
END:VEVENT
BEGIN:VEVENT
DTSTART;TZID=America/Los_Angeles:20240622T110000
DTEND;TZID=America/Los_Angeles:20240622T130000
DTSTAMP:20260420T000000
CREATED:20240617T174905Z
LAST-MODIFIED:20240617T174905Z
UID:1722-1719054000-1719061200@dawnyarndoll.com
SUMMARY:Saturday Morning w/Jax!!!
DESCRIPTION:
URL:https://dawnyarndoll.com/index.php/event/saturday-morning-w-jax/
END:VEVENT
BEGIN:VEVENT
DTSTART;TZID=America/Los_Angeles:20240622T080000
DTEND;TZID=America/Los_Angeles:20240622T100000
DTSTAMP:20260420T000000
CREATED:20240603T153107Z
LAST-MODIFIED:20240603T153107Z
UID:1614-1719043200-1719050400@dawnyarndoll.com
SUMMARY:Saturdays with Keri and Mara June 22
DESCRIPTION:
URL:https://dawnyarndoll.com/index.php/event/saturdays-with-keri-and-mara-june-22/
END:VEVENT
BEGIN:VEVENT
DTSTART;TZID=America/Los_Angeles:20240621T210000
DTEND;TZID=America/Los_Angeles:20240621T230000
DTSTAMP:20260420T000000
CREATED:20240620T174019Z
LAST-MODIFIED:20240620T174019Z
UID:1724-1719003600-1719010800@dawnyarndoll.com
SUMMARY:Full Moon and Summer Solstice Celebration! on Jamie Marie Crafts
DESCRIPTION:
URL:https://dawnyarndoll.com/index.php/event/full-moon-and-summer-solstice-celebration-on-jamie-marie-crafts/
END:VEVENT
BEGIN:VEVENT
DTSTART;TZID=America/Los_Angeles:20240621T150000
DTEND;TZID=America/Los_Angeles:20240621T170000
DTSTAMP:20260420T000000
CREATED:20240612T020630Z
LAST-MODIFIED:20240613T233801Z
UID:1705-1718982000-1718989200@dawnyarndoll.com
SUMMARY:Our Pre-Wedding Day - Little Lego
DESCRIPTION:
URL:https://dawnyarndoll.com/index.php/event/our-pre-wedding-day-little-lego/
END:VEVENT
BEGIN:VEVENT
DTSTART;TZID=America/Los_Angeles:20240620T150000
DTEND;TZID=America/Los_Angeles:20240620T170000
DTSTAMP:20260420T000000
CREATED:20240526T012203Z
LAST-MODIFIED:20240526T012203Z
UID:1572-1718895600-1718902800@dawnyarndoll.com
SUMMARY:Lets Chit Chat and More - MDL Crochet
DESCRIPTION:
URL:https://dawnyarndoll.com/index.php/event/lets-chit-chat-and-more-mdl-crochet-8/
END:VEVENT
BEGIN:VEVENT
DTSTART;TZID=America/Los_Angeles:20240619T190000
DTEND;TZID=America/Los_Angeles:20240619T220000
DTSTAMP:20260420T000000
CREATED:20240604T183730Z
LAST-MODIFIED:20240604T183730Z
UID:1669-1718823600-1718834400@dawnyarndoll.com
SUMMARY:Wednesday 6-19-2024 West Coast Wednesday Yarn\, WIP's and Crochet Chat with Friends
DESCRIPTION:
URL:https://dawnyarndoll.com/index.php/event/wednesday-6-19-2024-west-coast-wednesday-yarn-wips-and-crochet-chat-with-friends/
CATEGORIES:Dawn Yarn Doll Live
END:VEVENT
BEGIN:VEVENT
DTSTART;TZID=America/Los_Angeles:20240619T090000
DTEND;TZID=America/Los_Angeles:20240619T100000
DTSTAMP:20260420T000000
CREATED:20240423T223304Z
LAST-MODIFIED:20240423T223304Z
UID:1458-1718787600-1718791200@dawnyarndoll.com
SUMMARY:Softball Susie Twisted Roots - Dye results & Bingo.
DESCRIPTION:
URL:https://dawnyarndoll.com/index.php/event/softball-susie-twisted-roots-dye-results-bingo-7/
END:VEVENT
BEGIN:VEVENT
DTSTART;TZID=America/Los_Angeles:20240619T080000
DTEND;TZID=America/Los_Angeles:20240619T100000
DTSTAMP:20260420T000000
CREATED:20240603T160815Z
LAST-MODIFIED:20240603T160815Z
UID:1642-1718784000-1718791200@dawnyarndoll.com
SUMMARY:Wacky Wednesday Happy Mail - Ms C's Cottage
DESCRIPTION:
URL:https://dawnyarndoll.com/index.php/event/wacky-wednesday-happy-mail-ms-cs-cottage-3/
CATEGORIES:Ms C's Cottage
END:VEVENT
BEGIN:VEVENT
DTSTART;TZID=America/Los_Angeles:20240618T150000
DTEND;TZID=America/Los_Angeles:20240618T170000
DTSTAMP:20260420T000000
CREATED:20240609T164437Z
LAST-MODIFIED:20240609T164437Z
UID:1695-1718722800-1718730000@dawnyarndoll.com
SUMMARY:Tuesday Chit Chat 6/18/24 - Kiwi's Crochet Corner
DESCRIPTION:
URL:https://dawnyarndoll.com/index.php/event/tuesday-chit-chat-6-18-24-kiwis-crochet-corner/
CATEGORIES:Kiwi's Crochet Corner
END:VEVENT
BEGIN:VEVENT
DTSTART;TZID=America/Los_Angeles:20240617T170000
DTEND;TZID=America/Los_Angeles:20240617T190000
DTSTAMP:20260420T000000
CREATED:20240603T154555Z
LAST-MODIFIED:20240603T154555Z
UID:1630-1718643600-1718650800@dawnyarndoll.com
SUMMARY:Live From The Lounge Chair - Art Junkie with Softball Susie
DESCRIPTION:
URL:https://dawnyarndoll.com/index.php/event/live-from-the-lounge-chair-art-junkie-with-softball-susie/
CATEGORIES:Art Junkie - Crochet and Mixed Media Arts
END:VEVENT
BEGIN:VEVENT
DTSTART;TZID=America/Los_Angeles:20240617T093000
DTEND;TZID=America/Los_Angeles:20240617T113000
DTSTAMP:20260420T000000
CREATED:20240604T184527Z
LAST-MODIFIED:20240604T184527Z
UID:1678-1718616600-1718623800@dawnyarndoll.com
SUMMARY:Monday 6-17-2024 Members LiveStream Yarn Chat and Tea After Hobbii BINGO
DESCRIPTION:
URL:https://dawnyarndoll.com/index.php/event/monday-6-17-2024-members-livestream-yarn-chat-and-tea-after-hobbii-bingo/
CATEGORIES:Dawn Yarn Doll Live
END:VEVENT
BEGIN:VEVENT
DTSTART;TZID=America/Los_Angeles:20240617T080000
DTEND;TZID=America/Los_Angeles:20240617T100000
DTSTAMP:20260420T000000
CREATED:20240604T184442Z
LAST-MODIFIED:20240610T162852Z
UID:1677-1718611200-1718618400@dawnyarndoll.com
SUMMARY:Monday 6-17-2024 YARNDOLL BINGO - NO HOBBII BINGO\, Tea and Yarny talk with Friends
DESCRIPTION:
URL:https://dawnyarndoll.com/index.php/event/monday-6-17-2024-hobbii-bingo-tea-and-yarny-talk-with-friends/
CATEGORIES:Dawn Yarn Doll Live
END:VEVENT
BEGIN:VEVENT
DTSTART;TZID=America/Los_Angeles:20240616T183000
DTEND;TZID=America/Los_Angeles:20240616T203000
DTSTAMP:20260420T000000
CREATED:20240603T152905Z
LAST-MODIFIED:20240603T152905Z
UID:1611-1718562600-1718569800@dawnyarndoll.com
SUMMARY:WeekEnd WindUp Sunday June 16
DESCRIPTION:
URL:https://dawnyarndoll.com/index.php/event/weekend-windup-sunday-june-16/
END:VEVENT
BEGIN:VEVENT
DTSTART;TZID=America/Los_Angeles:20240616T170000
DTEND;TZID=America/Los_Angeles:20240616T190000
DTSTAMP:20260420T000000
CREATED:20240612T211759Z
LAST-MODIFIED:20240612T211759Z
UID:1708-1718557200-1718564400@dawnyarndoll.com
SUMMARY:Sunday Fun Day ~ zu Hause with Michi & Friends
DESCRIPTION:
URL:https://dawnyarndoll.com/index.php/event/sunday-fun-day-zu-hause-with-michi-friends-5/
CATEGORIES:Michi's Crochet Nook
END:VEVENT
BEGIN:VEVENT
DTSTART;TZID=America/Los_Angeles:20240616T090000
DTEND;TZID=America/Los_Angeles:20240616T110000
DTSTAMP:20260420T000000
CREATED:20240603T160445Z
LAST-MODIFIED:20240603T160445Z
UID:1638-1718528400-1718535600@dawnyarndoll.com
SUMMARY:Somebunny Sunday #24
DESCRIPTION:
URL:https://dawnyarndoll.com/index.php/event/somebunny-sunday-24/
CATEGORIES:Ms C's Cottage
END:VEVENT
BEGIN:VEVENT
DTSTART;TZID=America/Los_Angeles:20240615T180000
DTEND;TZID=America/Los_Angeles:20240615T210000
DTSTAMP:20260420T000000
CREATED:20240613T183043Z
LAST-MODIFIED:20240613T183043Z
UID:1717-1718474400-1718485200@dawnyarndoll.com
SUMMARY:All Aboard the Crazy Train! - Heart of Orion Jewelry
DESCRIPTION:
URL:https://dawnyarndoll.com/index.php/event/all-aboard-the-crazy-train-heart-of-orion-jewelry/
END:VEVENT
BEGIN:VEVENT
DTSTART;TZID=America/Los_Angeles:20240614T150000
DTEND;TZID=America/Los_Angeles:20240614T170000
DTSTAMP:20260420T000000
CREATED:20240613T144752Z
LAST-MODIFIED:20240613T144752Z
UID:1715-1718377200-1718384400@dawnyarndoll.com
SUMMARY:WIP Jar LIVE! Join me We Revamp The WIP Jar - Guinspired Crochet
DESCRIPTION:
URL:https://dawnyarndoll.com/index.php/event/wip-jar-live-join-me-we-revamp-the-wip-jar-guinspired-crochet/
END:VEVENT
BEGIN:VEVENT
DTSTART;TZID=America/Los_Angeles:20240614T120000
DTEND;TZID=America/Los_Angeles:20240614T140000
DTSTAMP:20260420T000000
CREATED:20240603T154413Z
LAST-MODIFIED:20240603T154413Z
UID:1628-1718366400-1718373600@dawnyarndoll.com
SUMMARY:Art Junkie Live Art
DESCRIPTION:
URL:https://dawnyarndoll.com/index.php/event/art-junkie-live-art-2/
CATEGORIES:Art Junkie - Crochet and Mixed Media Arts
END:VEVENT
BEGIN:VEVENT
DTSTART;TZID=America/Los_Angeles:20240614T110000
DTEND;TZID=America/Los_Angeles:20240614T130000
DTSTAMP:20260420T000000
CREATED:20240603T170144Z
LAST-MODIFIED:20240603T170144Z
UID:1663-1718362800-1718370000@dawnyarndoll.com
SUMMARY:TGIF LETS TALK AND HAVE ☕ ! on Pamski's Crafty Heart
DESCRIPTION:
URL:https://dawnyarndoll.com/index.php/event/tgif-lets-talk-and-have-%e2%98%95-on-pamskis-crafty-heart/
END:VEVENT
BEGIN:VEVENT
DTSTART;TZID=America/Los_Angeles:20240613T180000
DTEND;TZID=America/Los_Angeles:20240613T200000
DTSTAMP:20260420T000000
CREATED:20240603T170022Z
LAST-MODIFIED:20240603T170022Z
UID:1661-1718301600-1718308800@dawnyarndoll.com
SUMMARY:Lets Play Trivia ! on Pamski's Crafty Heart
DESCRIPTION:
URL:https://dawnyarndoll.com/index.php/event/lets-play-trivia-on-pamskis-crafty-heart/
END:VEVENT
END:VCALENDAR