BEGIN:VCALENDAR
VERSION:2.0
PRODID:-//Dawn Yarn Doll - ECPv6.15.20//NONSGML v1.0//EN
CALSCALE:GREGORIAN
METHOD:PUBLISH
X-WR-CALNAME:Dawn Yarn Doll
X-ORIGINAL-URL:https://dawnyarndoll.com
X-WR-CALDESC:Events for Dawn Yarn Doll
REFRESH-INTERVAL;VALUE=DURATION:PT1H
X-Robots-Tag:noindex
X-PUBLISHED-TTL:PT1H
BEGIN:VTIMEZONE
TZID:America/Los_Angeles
BEGIN:DAYLIGHT
TZOFFSETFROM:-0800
TZOFFSETTO:-0700
TZNAME:PDT
DTSTART:20230312T100000
END:DAYLIGHT
BEGIN:STANDARD
TZOFFSETFROM:-0700
TZOFFSETTO:-0800
TZNAME:PST
DTSTART:20231105T090000
END:STANDARD
BEGIN:DAYLIGHT
TZOFFSETFROM:-0800
TZOFFSETTO:-0700
TZNAME:PDT
DTSTART:20240310T100000
END:DAYLIGHT
BEGIN:STANDARD
TZOFFSETFROM:-0700
TZOFFSETTO:-0800
TZNAME:PST
DTSTART:20241103T090000
END:STANDARD
BEGIN:DAYLIGHT
TZOFFSETFROM:-0800
TZOFFSETTO:-0700
TZNAME:PDT
DTSTART:20250309T100000
END:DAYLIGHT
BEGIN:STANDARD
TZOFFSETFROM:-0700
TZOFFSETTO:-0800
TZNAME:PST
DTSTART:20251102T090000
END:STANDARD
END:VTIMEZONE
BEGIN:VEVENT
DTSTART;TZID=America/Los_Angeles:20240704T150000
DTEND;TZID=America/Los_Angeles:20240704T170000
DTSTAMP:20260419T151655
CREATED:20240526T012505Z
LAST-MODIFIED:20240526T012505Z
UID:1577-1720105200-1720112400@dawnyarndoll.com
SUMMARY:Lets Chit Chat and More - MDL Crochet
DESCRIPTION:
URL:https://dawnyarndoll.com/index.php/event/lets-chit-chat-and-more-mdl-crochet-10/
END:VEVENT
BEGIN:VEVENT
DTSTART;TZID=America/Los_Angeles:20240704T140000
DTEND;TZID=America/Los_Angeles:20240704T160000
DTSTAMP:20260419T151655
CREATED:20240701T193445Z
LAST-MODIFIED:20240701T193445Z
UID:1795-1720101600-1720108800@dawnyarndoll.com
SUMMARY:Coffee and Chatalong with Margie's Crafty Corner
DESCRIPTION:
URL:https://dawnyarndoll.com/index.php/event/coffee-and-chatalong-with-margies-crafty-corner/
CATEGORIES:Margies Crafty Corner
END:VEVENT
BEGIN:VEVENT
DTSTART;TZID=America/Los_Angeles:20240703T190000
DTEND;TZID=America/Los_Angeles:20240703T220000
DTSTAMP:20260419T151655
CREATED:20240624T153603Z
LAST-MODIFIED:20240624T153737Z
UID:1739-1720033200-1720044000@dawnyarndoll.com
SUMMARY:Wednesday 7-03.-2024 West Coast Wednesday Yarn\, WIP's and Crochet Chat with Friends
DESCRIPTION:
URL:https://dawnyarndoll.com/index.php/event/wednesday-6-26-2024-west-coast-wednesday-yarn-wips-and-crochet-chat-with-friends-copy/
CATEGORIES:Dawn Yarn Doll Live
END:VEVENT
BEGIN:VEVENT
DTSTART;TZID=America/Los_Angeles:20240702T150000
DTEND;TZID=America/Los_Angeles:20240702T170000
DTSTAMP:20260419T151655
CREATED:20240622T184543Z
LAST-MODIFIED:20240622T184543Z
UID:1726-1719932400-1719939600@dawnyarndoll.com
SUMMARY:Tuesday Chit Chat 7/2/24 on Kiwi's Crochet Corner
DESCRIPTION:
URL:https://dawnyarndoll.com/index.php/event/tuesday-chit-chat-7-2-24-on-kiwis-crochet-corner/
CATEGORIES:Kiwi's Crochet Corner
END:VEVENT
BEGIN:VEVENT
DTSTART;TZID=America/Los_Angeles:20240701T170000
DTEND;TZID=America/Los_Angeles:20240701T190000
DTSTAMP:20260419T151655
CREATED:20240701T162028Z
LAST-MODIFIED:20240701T162028Z
UID:1793-1719853200-1719860400@dawnyarndoll.com
SUMMARY:Animal Rescue Charity Auction 7/1 on Bag-O0Day Crochet
DESCRIPTION:
URL:https://dawnyarndoll.com/index.php/event/animal-rescue-charity-auction-7-1-on-bag-o0day-crochet/
END:VEVENT
BEGIN:VEVENT
DTSTART;TZID=America/Los_Angeles:20240701T150000
DTEND;TZID=America/Los_Angeles:20240701T160000
DTSTAMP:20260419T151655
CREATED:20240624T232904Z
LAST-MODIFIED:20240624T232904Z
UID:1772-1719846000-1719849600@dawnyarndoll.com
SUMMARY:Monday Musings & Updates - J. Took Moonlight Moth Creations
DESCRIPTION:
URL:https://dawnyarndoll.com/index.php/event/monday-musings-updates-j-took-moonlight-moth-creations/
END:VEVENT
BEGIN:VEVENT
DTSTART;TZID=America/Los_Angeles:20240701T120000
DTEND;TZID=America/Los_Angeles:20240701T140000
DTSTAMP:20260419T151655
CREATED:20240624T155951Z
LAST-MODIFIED:20240624T155951Z
UID:1762-1719835200-1719842400@dawnyarndoll.com
SUMMARY:Art Junkies Live Canada Day Party 🇨🇦
DESCRIPTION:
URL:https://dawnyarndoll.com/index.php/event/art-junkies-live-canada-day-party-%f0%9f%87%a8%f0%9f%87%a6/
CATEGORIES:Art Junkie - Crochet and Mixed Media Arts
END:VEVENT
BEGIN:VEVENT
DTSTART;TZID=America/Los_Angeles:20240701T093000
DTEND;TZID=America/Los_Angeles:20240701T113000
DTSTAMP:20260419T151655
CREATED:20240624T154847Z
LAST-MODIFIED:20240624T154847Z
UID:1755-1719826200-1719833400@dawnyarndoll.com
SUMMARY:Monday 7-1-2024 Members LiveStream Yarn Chat and Tea After Hobbii BINGO
DESCRIPTION:
URL:https://dawnyarndoll.com/index.php/event/monday-7-1-2024-members-livestream-yarn-chat-and-tea-after-hobbii-bingo/
CATEGORIES:Dawn Yarn Doll Live
END:VEVENT
BEGIN:VEVENT
DTSTART;TZID=America/Los_Angeles:20240701T080000
DTEND;TZID=America/Los_Angeles:20240701T100000
DTSTAMP:20260419T151655
CREATED:20240624T154751Z
LAST-MODIFIED:20240624T154751Z
UID:1754-1719820800-1719828000@dawnyarndoll.com
SUMMARY:Monday 7-1-2024 HOBBII BINGO\, Tea and Yarny talk with Friends
DESCRIPTION:
URL:https://dawnyarndoll.com/index.php/event/monday-7-1-2024-hobbii-bingo-tea-and-yarny-talk-with-friends/
CATEGORIES:Dawn Yarn Doll Live
END:VEVENT
BEGIN:VEVENT
DTSTART;TZID=America/Los_Angeles:20240630T183000
DTEND;TZID=America/Los_Angeles:20240630T203000
DTSTAMP:20260419T151655
CREATED:20240603T153335Z
LAST-MODIFIED:20240603T153335Z
UID:1616-1719772200-1719779400@dawnyarndoll.com
SUMMARY:WeekEnd WindUp Sunday June 30
DESCRIPTION:
URL:https://dawnyarndoll.com/index.php/event/weekend-windup-sunday-june-30/
END:VEVENT
BEGIN:VEVENT
DTSTART;TZID=America/Los_Angeles:20240630T170000
DTEND;TZID=America/Los_Angeles:20240630T190000
DTSTAMP:20260419T151655
CREATED:20240612T212137Z
LAST-MODIFIED:20240625T212454Z
UID:1713-1719766800-1719774000@dawnyarndoll.com
SUMMARY:Sunday Fun Day ~ zu Hause with Michi & Friends
DESCRIPTION:
URL:https://dawnyarndoll.com/index.php/event/sunday-fun-day-zu-hause-with-michi-friends-7/
CATEGORIES:Michi's Crochet Nook
END:VEVENT
BEGIN:VEVENT
DTSTART;TZID=America/Los_Angeles:20240630T100000
DTEND;TZID=America/Los_Angeles:20240630T120000
DTSTAMP:20260419T151655
CREATED:20240526T204152Z
LAST-MODIFIED:20240526T204152Z
UID:1596-1719741600-1719748800@dawnyarndoll.com
SUMMARY:Sunday Chat and choosing a new oracle card inspiration on Jamie Marie Crafts
DESCRIPTION:
URL:https://dawnyarndoll.com/index.php/event/sunday-chat-and-choosing-a-new-oracle-card-inspiration-on-jamie-marie-crafts-4/
END:VEVENT
BEGIN:VEVENT
DTSTART;TZID=America/Los_Angeles:20240630T090000
DTEND;TZID=America/Los_Angeles:20240630T110000
DTSTAMP:20260419T151655
CREATED:20240603T161144Z
LAST-MODIFIED:20240603T161144Z
UID:1648-1719738000-1719745200@dawnyarndoll.com
SUMMARY:Somebunny Sunday #26
DESCRIPTION:
URL:https://dawnyarndoll.com/index.php/event/somebunny-sunday-26/
CATEGORIES:Ms C's Cottage
END:VEVENT
BEGIN:VEVENT
DTSTART;TZID=America/Los_Angeles:20240629T180000
DTEND;TZID=America/Los_Angeles:20240629T200000
DTSTAMP:20260419T151655
CREATED:20240628T183344Z
LAST-MODIFIED:20240628T183344Z
UID:1782-1719684000-1719691200@dawnyarndoll.com
SUMMARY:Makin' More Stuff! on Heart Of Orion Jewelry
DESCRIPTION:
URL:https://dawnyarndoll.com/index.php/event/makin-more-stuff-on-heart-of-orion-jewelry/
END:VEVENT
BEGIN:VEVENT
DTSTART;TZID=America/Los_Angeles:20240628T120000
DTEND;TZID=America/Los_Angeles:20240628T140000
DTSTAMP:20260419T151655
CREATED:20240624T155807Z
LAST-MODIFIED:20240624T155807Z
UID:1759-1719576000-1719583200@dawnyarndoll.com
SUMMARY:Art Junkie Live Art
DESCRIPTION:
URL:https://dawnyarndoll.com/index.php/event/art-junkie-live-art-3/
CATEGORIES:Art Junkie - Crochet and Mixed Media Arts
END:VEVENT
BEGIN:VEVENT
DTSTART;TZID=America/Los_Angeles:20240627T150000
DTEND;TZID=America/Los_Angeles:20240627T170000
DTSTAMP:20260419T151655
CREATED:20240526T012343Z
LAST-MODIFIED:20240526T012343Z
UID:1574-1719500400-1719507600@dawnyarndoll.com
SUMMARY:Lets Chit Chat and More - MDL Crochet
DESCRIPTION:
URL:https://dawnyarndoll.com/index.php/event/lets-chit-chat-and-more-mdl-crochet-9/
END:VEVENT
BEGIN:VEVENT
DTSTART;TZID=America/Los_Angeles:20240626T090000
DTEND;TZID=America/Los_Angeles:20240626T100000
DTSTAMP:20260419T151655
CREATED:20240423T223640Z
LAST-MODIFIED:20240423T223640Z
UID:1460-1719392400-1719396000@dawnyarndoll.com
SUMMARY:Softball Susie Twisted Roots - Dye results & Bingo.
DESCRIPTION:
URL:https://dawnyarndoll.com/index.php/event/softball-susie-twisted-roots-dye-results-bingo-8/
END:VEVENT
BEGIN:VEVENT
DTSTART;TZID=America/Los_Angeles:20240626T080000
DTEND;TZID=America/Los_Angeles:20240626T100000
DTSTAMP:20260419T151655
CREATED:20240603T161031Z
LAST-MODIFIED:20240603T161031Z
UID:1646-1719388800-1719396000@dawnyarndoll.com
SUMMARY:Wacky Wednesday Happy Mail - Ms C's Cottage
DESCRIPTION:
URL:https://dawnyarndoll.com/index.php/event/wacky-wednesday-happy-mail-ms-cs-cottage-4/
CATEGORIES:Ms C's Cottage
END:VEVENT
BEGIN:VEVENT
DTSTART;TZID=America/Los_Angeles:20240625T150000
DTEND;TZID=America/Los_Angeles:20240625T170000
DTSTAMP:20260419T151655
CREATED:20240609T164554Z
LAST-MODIFIED:20240609T164554Z
UID:1697-1719327600-1719334800@dawnyarndoll.com
SUMMARY:Tuesday Chit Chat 6/25/24 - Kiwi's Crochet Corner
DESCRIPTION:
URL:https://dawnyarndoll.com/index.php/event/tuesday-chit-chat-6-25-24-kiwis-crochet-corner/
CATEGORIES:Kiwi's Crochet Corner
END:VEVENT
BEGIN:VEVENT
DTSTART;TZID=America/Los_Angeles:20240624T170000
DTEND;TZID=America/Los_Angeles:20240624T190000
DTSTAMP:20260419T151655
CREATED:20240603T154723Z
LAST-MODIFIED:20240603T154723Z
UID:1632-1719248400-1719255600@dawnyarndoll.com
SUMMARY:Live From The Lounge Chair - Art Junkie with Mama Wench
DESCRIPTION:
URL:https://dawnyarndoll.com/index.php/event/live-from-the-lounge-chair-art-junkie-with-mama-wench/
CATEGORIES:Art Junkie - Crochet and Mixed Media Arts
END:VEVENT
BEGIN:VEVENT
DTSTART;TZID=America/Los_Angeles:20240624T093000
DTEND;TZID=America/Los_Angeles:20240624T113000
DTSTAMP:20260419T151655
CREATED:20240624T154558Z
LAST-MODIFIED:20240624T154558Z
UID:1748-1719221400-1719228600@dawnyarndoll.com
SUMMARY:Monday 6-24-2024 Members LiveStream Yarn Chat and Tea After Hobbii BINGO
DESCRIPTION:
URL:https://dawnyarndoll.com/index.php/event/monday-6-24-2024-members-livestream-yarn-chat-and-tea-after-hobbii-bingo/
CATEGORIES:Dawn Yarn Doll Live
END:VEVENT
BEGIN:VEVENT
DTSTART;TZID=America/Los_Angeles:20240624T080000
DTEND;TZID=America/Los_Angeles:20240624T100000
DTSTAMP:20260419T151655
CREATED:20240624T154410Z
LAST-MODIFIED:20240624T154517Z
UID:1747-1719216000-1719223200@dawnyarndoll.com
SUMMARY:Monday 6-24-2024 HOBBII BINGO\, Tea and Yarny talk with Friends
DESCRIPTION:
URL:https://dawnyarndoll.com/index.php/event/monday-6-24-2024-hobbii-bingo-tea-and-yarny-talk-with-friends/
CATEGORIES:Dawn Yarn Doll Live
END:VEVENT
BEGIN:VEVENT
DTSTART;TZID=America/Los_Angeles:20240623T183000
DTEND;TZID=America/Los_Angeles:20240623T203000
DTSTAMP:20260419T151655
CREATED:20240603T153514Z
LAST-MODIFIED:20240603T153514Z
UID:1618-1719167400-1719174600@dawnyarndoll.com
SUMMARY:WeekEnd WindUp Sunday June 23
DESCRIPTION:
URL:https://dawnyarndoll.com/index.php/event/weekend-windup-sunday-june-23/
END:VEVENT
BEGIN:VEVENT
DTSTART;TZID=America/Los_Angeles:20240623T170000
DTEND;TZID=America/Los_Angeles:20240623T190000
DTSTAMP:20260419T151655
CREATED:20240612T212031Z
LAST-MODIFIED:20240612T212031Z
UID:1711-1719162000-1719169200@dawnyarndoll.com
SUMMARY:Sunday Fun Day ~ zu Hause with Michi & Friends
DESCRIPTION:
URL:https://dawnyarndoll.com/index.php/event/sunday-fun-day-zu-hause-with-michi-friends-6/
CATEGORIES:Michi's Crochet Nook
END:VEVENT
BEGIN:VEVENT
DTSTART;TZID=America/Los_Angeles:20240623T100000
DTEND;TZID=America/Los_Angeles:20240623T120000
DTSTAMP:20260419T151655
CREATED:20240526T204025Z
LAST-MODIFIED:20240526T204025Z
UID:1594-1719136800-1719144000@dawnyarndoll.com
SUMMARY:Sunday Chat and choosing a new oracle card inspiration on Jamie Marie Crafts
DESCRIPTION:
URL:https://dawnyarndoll.com/index.php/event/sunday-chat-and-choosing-a-new-oracle-card-inspiration-on-jamie-marie-crafts-3/
END:VEVENT
BEGIN:VEVENT
DTSTART;TZID=America/Los_Angeles:20240623T090000
DTEND;TZID=America/Los_Angeles:20240623T110000
DTSTAMP:20260419T151655
CREATED:20240603T160923Z
LAST-MODIFIED:20240603T160923Z
UID:1644-1719133200-1719140400@dawnyarndoll.com
SUMMARY:Somebunny Sunday #25
DESCRIPTION:
URL:https://dawnyarndoll.com/index.php/event/somebunny-sunday-25/
CATEGORIES:Ms C's Cottage
END:VEVENT
BEGIN:VEVENT
DTSTART;TZID=America/Los_Angeles:20240622T110000
DTEND;TZID=America/Los_Angeles:20240622T130000
DTSTAMP:20260419T151655
CREATED:20240617T174905Z
LAST-MODIFIED:20240617T174905Z
UID:1722-1719054000-1719061200@dawnyarndoll.com
SUMMARY:Saturday Morning w/Jax!!!
DESCRIPTION:
URL:https://dawnyarndoll.com/index.php/event/saturday-morning-w-jax/
END:VEVENT
BEGIN:VEVENT
DTSTART;TZID=America/Los_Angeles:20240622T080000
DTEND;TZID=America/Los_Angeles:20240622T100000
DTSTAMP:20260419T151655
CREATED:20240603T153107Z
LAST-MODIFIED:20240603T153107Z
UID:1614-1719043200-1719050400@dawnyarndoll.com
SUMMARY:Saturdays with Keri and Mara June 22
DESCRIPTION:
URL:https://dawnyarndoll.com/index.php/event/saturdays-with-keri-and-mara-june-22/
END:VEVENT
BEGIN:VEVENT
DTSTART;TZID=America/Los_Angeles:20240621T210000
DTEND;TZID=America/Los_Angeles:20240621T230000
DTSTAMP:20260419T151655
CREATED:20240620T174019Z
LAST-MODIFIED:20240620T174019Z
UID:1724-1719003600-1719010800@dawnyarndoll.com
SUMMARY:Full Moon and Summer Solstice Celebration! on Jamie Marie Crafts
DESCRIPTION:
URL:https://dawnyarndoll.com/index.php/event/full-moon-and-summer-solstice-celebration-on-jamie-marie-crafts/
END:VEVENT
BEGIN:VEVENT
DTSTART;TZID=America/Los_Angeles:20240621T150000
DTEND;TZID=America/Los_Angeles:20240621T170000
DTSTAMP:20260419T151655
CREATED:20240612T020630Z
LAST-MODIFIED:20240613T233801Z
UID:1705-1718982000-1718989200@dawnyarndoll.com
SUMMARY:Our Pre-Wedding Day - Little Lego
DESCRIPTION:
URL:https://dawnyarndoll.com/index.php/event/our-pre-wedding-day-little-lego/
END:VEVENT
END:VCALENDAR