BEGIN:VCALENDAR
VERSION:2.0
PRODID:-//Dawn Yarn Doll - ECPv6.15.20//NONSGML v1.0//EN
CALSCALE:GREGORIAN
METHOD:PUBLISH
X-WR-CALNAME:Dawn Yarn Doll
X-ORIGINAL-URL:https://dawnyarndoll.com
X-WR-CALDESC:Events for Dawn Yarn Doll
REFRESH-INTERVAL;VALUE=DURATION:PT1H
X-Robots-Tag:noindex
X-PUBLISHED-TTL:PT1H
BEGIN:VTIMEZONE
TZID:America/Los_Angeles
BEGIN:DAYLIGHT
TZOFFSETFROM:-0800
TZOFFSETTO:-0700
TZNAME:PDT
DTSTART:20230312T100000
END:DAYLIGHT
BEGIN:STANDARD
TZOFFSETFROM:-0700
TZOFFSETTO:-0800
TZNAME:PST
DTSTART:20231105T090000
END:STANDARD
BEGIN:DAYLIGHT
TZOFFSETFROM:-0800
TZOFFSETTO:-0700
TZNAME:PDT
DTSTART:20240310T100000
END:DAYLIGHT
BEGIN:STANDARD
TZOFFSETFROM:-0700
TZOFFSETTO:-0800
TZNAME:PST
DTSTART:20241103T090000
END:STANDARD
BEGIN:DAYLIGHT
TZOFFSETFROM:-0800
TZOFFSETTO:-0700
TZNAME:PDT
DTSTART:20250309T100000
END:DAYLIGHT
BEGIN:STANDARD
TZOFFSETFROM:-0700
TZOFFSETTO:-0800
TZNAME:PST
DTSTART:20251102T090000
END:STANDARD
END:VTIMEZONE
BEGIN:VEVENT
DTSTART;TZID=America/Los_Angeles:20240331T203000
DTEND;TZID=America/Los_Angeles:20240331T213000
DTSTAMP:20260422T150134
CREATED:20240327T153908Z
LAST-MODIFIED:20240327T153908Z
UID:1353-1711917000-1711920600@dawnyarndoll.com
SUMMARY:Crafts 'n' Laughs #71 on Lisa Knits and Vlogs
DESCRIPTION:
URL:https://dawnyarndoll.com/index.php/event/crafts-n-laughs-71-on-lisa-knits-and-vlogs/
CATEGORIES:Lisa Knits and Vlogs
END:VEVENT
BEGIN:VEVENT
DTSTART;TZID=America/Los_Angeles:20240328T140000
DTEND;TZID=America/Los_Angeles:20240328T150000
DTSTAMP:20260422T150134
CREATED:20240222T233557Z
LAST-MODIFIED:20240222T233557Z
UID:1259-1711634400-1711638000@dawnyarndoll.com
SUMMARY:Coffee and Chat along on Margies Crafty Corner
DESCRIPTION:
URL:https://dawnyarndoll.com/index.php/event/coffee-and-chat-along-on-margies-crafty-corner-13/
CATEGORIES:Margies Crafty Corner
END:VEVENT
BEGIN:VEVENT
DTSTART;TZID=America/Los_Angeles:20240328T130000
DTEND;TZID=America/Los_Angeles:20240328T150000
DTSTAMP:20260422T150134
CREATED:20240327T154853Z
LAST-MODIFIED:20240327T154853Z
UID:1359-1711630800-1711638000@dawnyarndoll.com
SUMMARY:Mel's 2nd Podaversary Party!!! Let's Celebrate!! on Lethaleya's Little Hook with Melanie
DESCRIPTION:
URL:https://dawnyarndoll.com/index.php/event/mels-2nd-podaversary-party-lets-celebrate-on-lethaleyas-little-hook-with-melanie/
END:VEVENT
BEGIN:VEVENT
DTSTART;TZID=America/Los_Angeles:20240328T110000
DTEND;TZID=America/Los_Angeles:20240328T130000
DTSTAMP:20260422T150134
CREATED:20240324T024416Z
LAST-MODIFIED:20240324T024416Z
UID:1340-1711623600-1711630800@dawnyarndoll.com
SUMMARY:Let chit chat and more - MDL Crochet
DESCRIPTION:
URL:https://dawnyarndoll.com/index.php/event/let-chit-chat-and-more-mdl-crochet/
END:VEVENT
BEGIN:VEVENT
DTSTART;TZID=America/Los_Angeles:20240327T180000
DTEND;TZID=America/Los_Angeles:20240327T200000
DTSTAMP:20260422T150134
CREATED:20240318T172857Z
LAST-MODIFIED:20240318T172857Z
UID:1336-1711562400-1711569600@dawnyarndoll.com
SUMMARY:Wednesday 3-27-2024 West Coast Wednesday Yarn\, WIP's and Crochet Chat with Friends
DESCRIPTION:
URL:https://dawnyarndoll.com/index.php/event/wednesday-3-27-2024-west-coast-wednesday-yarn-wips-and-crochet-chat-with-friends/
CATEGORIES:Dawn Yarn Doll Live
END:VEVENT
BEGIN:VEVENT
DTSTART;TZID=America/Los_Angeles:20240325T110000
DTEND;TZID=America/Los_Angeles:20240325T120000
DTSTAMP:20260422T150134
CREATED:20240311T145121Z
LAST-MODIFIED:20240311T145121Z
UID:1312-1711364400-1711368000@dawnyarndoll.com
SUMMARY:Monday 3-25-2024 Members LiveStream Tea and Chat After Hobbii BINGO
DESCRIPTION:
URL:https://dawnyarndoll.com/index.php/event/monday-3-25-2024-members-livestream-tea-and-chat-after-hobbii-bingo/
CATEGORIES:Dawn Yarn Doll Live
END:VEVENT
BEGIN:VEVENT
DTSTART;TZID=America/Los_Angeles:20240325T083000
DTEND;TZID=America/Los_Angeles:20240325T103000
DTSTAMP:20260422T150134
CREATED:20240311T145406Z
LAST-MODIFIED:20240311T145940Z
UID:1314-1711355400-1711362600@dawnyarndoll.com
SUMMARY:Monday 3-25-2024 Howling for HOBBII BINGO\, Tea and Yarny talk with Friends
DESCRIPTION:
URL:https://dawnyarndoll.com/index.php/event/monday-3-25-2024-howling-for-hobbii-bingo-tea-and-yarny-talk-with-friends/
CATEGORIES:Dawn Yarn Doll Live
END:VEVENT
BEGIN:VEVENT
DTSTART;TZID=America/Los_Angeles:20240323T080000
DTEND;TZID=America/Los_Angeles:20240323T170000
DTSTAMP:20260422T150134
CREATED:20240224T043820Z
LAST-MODIFIED:20240224T043820Z
UID:1269-1711180800-1711213200@dawnyarndoll.com
SUMMARY:Dawn and John. The birthday bash
DESCRIPTION:
URL:https://dawnyarndoll.com/index.php/event/dawn-and-john-the-birthday-bash/
CATEGORIES:Dawn Yarn Doll Live
END:VEVENT
BEGIN:VEVENT
DTSTART;TZID=America/Los_Angeles:20240321T140000
DTEND;TZID=America/Los_Angeles:20240321T150000
DTSTAMP:20260422T150134
CREATED:20240222T233514Z
LAST-MODIFIED:20240222T233514Z
UID:1256-1711029600-1711033200@dawnyarndoll.com
SUMMARY:Coffee and Chat along on Margies Crafty Corner
DESCRIPTION:
URL:https://dawnyarndoll.com/index.php/event/coffee-and-chat-along-on-margies-crafty-corner-12/
CATEGORIES:Margies Crafty Corner
END:VEVENT
BEGIN:VEVENT
DTSTART;TZID=America/Los_Angeles:20240321T110000
DTEND;TZID=America/Los_Angeles:20240321T120000
DTSTAMP:20260422T150134
CREATED:20240313T224723Z
LAST-MODIFIED:20240313T224723Z
UID:1323-1711018800-1711022400@dawnyarndoll.com
SUMMARY:My First Live - MDL Crochet
DESCRIPTION:
URL:https://dawnyarndoll.com/index.php/event/my-first-live-mdl-crochet/
END:VEVENT
BEGIN:VEVENT
DTSTART;TZID=America/Los_Angeles:20240320T200000
DTEND;TZID=America/Los_Angeles:20240320T230000
DTSTAMP:20260422T150134
CREATED:20240315T001030Z
LAST-MODIFIED:20240318T000155Z
UID:1327-1710964800-1710975600@dawnyarndoll.com
SUMMARY:Wednesday 3-20-2024 West Coast Wednesday Yarn\, WIP's and Crochet Chat with Friends
DESCRIPTION:
URL:https://dawnyarndoll.com/index.php/event/wednesday-3-20-2024-west-coast-wednesday-yarn-wips-and-crochet-chat-with-friends/
CATEGORIES:Dawn Yarn Doll Live
END:VEVENT
BEGIN:VEVENT
DTSTART;TZID=America/Los_Angeles:20240320T180000
DTEND;TZID=America/Los_Angeles:20240320T190000
DTSTAMP:20260422T150134
CREATED:20240315T000434Z
LAST-MODIFIED:20240317T234726Z
UID:1325-1710957600-1710961200@dawnyarndoll.com
SUMMARY:1 Year Anniversary of "Little Lego" & new "Video Intro" Version 5! PLUS Win a FREE Lego set!!
DESCRIPTION:
URL:https://dawnyarndoll.com/index.php/event/1-year-anniversary-of-little-lego-new-video-intro-version-5-plus-win-a-free-lego-set/
END:VEVENT
BEGIN:VEVENT
DTSTART;TZID=America/Los_Angeles:20240318T110000
DTEND;TZID=America/Los_Angeles:20240318T120000
DTSTAMP:20260422T150134
CREATED:20240311T144955Z
LAST-MODIFIED:20240311T144955Z
UID:1310-1710759600-1710763200@dawnyarndoll.com
SUMMARY:Monday 3-18-2024 Members LiveStream Tea and Chat After Hobbii BINGO
DESCRIPTION:
URL:https://dawnyarndoll.com/index.php/event/monday-3-18-2024-members-livestream-tea-and-chat-after-hobbii-bingo/
CATEGORIES:Dawn Yarn Doll Live
END:VEVENT
BEGIN:VEVENT
DTSTART;TZID=America/Los_Angeles:20240318T083000
DTEND;TZID=America/Los_Angeles:20240318T103000
DTSTAMP:20260422T150134
CREATED:20240311T144848Z
LAST-MODIFIED:20240311T144848Z
UID:1308-1710750600-1710757800@dawnyarndoll.com
SUMMARY:Monday 3-18-2024 Howling for HOBBII BINGO\, Tea and Yarny talk with Friends
DESCRIPTION:
URL:https://dawnyarndoll.com/index.php/event/monday-3-18-2024-howling-for-hobbii-bingo-tea-and-yarny-talk-with-friends/
CATEGORIES:Dawn Yarn Doll Live
END:VEVENT
BEGIN:VEVENT
DTSTART;TZID=America/Los_Angeles:20240317T170000
DTEND;TZID=America/Los_Angeles:20240317T190000
DTSTAMP:20260422T150134
CREATED:20240313T152345Z
LAST-MODIFIED:20240313T152345Z
UID:1321-1710694800-1710702000@dawnyarndoll.com
SUMMARY:☘️Sunday Fun Day at home with Michi & Friends ~ 20 more days
DESCRIPTION:
URL:https://dawnyarndoll.com/index.php/event/%e2%98%98%ef%b8%8fsunday-fun-day-at-home-with-michi-friends-20-more-days/
CATEGORIES:Michi's Crochet Nook
END:VEVENT
BEGIN:VEVENT
DTSTART;TZID=America/Los_Angeles:20240316T090000
DTEND;TZID=America/Los_Angeles:20240316T110000
DTSTAMP:20260422T150134
CREATED:20240307T042926Z
LAST-MODIFIED:20240307T042926Z
UID:1306-1710579600-1710586800@dawnyarndoll.com
SUMMARY:Porch Chat With Niese | Crochet\, Craft\, & Relax Tme With Friends!
DESCRIPTION:
URL:https://dawnyarndoll.com/index.php/event/porch-chat-with-niese-crochet-craft-relax-tme-with-friends-2/
CATEGORIES:Freehandly made Au
END:VEVENT
BEGIN:VEVENT
DTSTART;TZID=America/Los_Angeles:20240314T140000
DTEND;TZID=America/Los_Angeles:20240314T150000
DTSTAMP:20260422T150134
CREATED:20240222T233456Z
LAST-MODIFIED:20240222T233456Z
UID:1255-1710424800-1710428400@dawnyarndoll.com
SUMMARY:Coffee and Chat along on Margies Crafty Corner
DESCRIPTION:
URL:https://dawnyarndoll.com/index.php/event/coffee-and-chat-along-on-margies-crafty-corner-11/
CATEGORIES:Margies Crafty Corner
END:VEVENT
BEGIN:VEVENT
DTSTART;TZID=America/Los_Angeles:20240313T180000
DTEND;TZID=America/Los_Angeles:20240313T210000
DTSTAMP:20260422T150134
CREATED:20240229T010906Z
LAST-MODIFIED:20240313T224459Z
UID:1289-1710352800-1710363600@dawnyarndoll.com
SUMMARY:Wednesday 3-13-2024 West Coast Wednesday Wild WIP's and Crochet Chat with Friends
DESCRIPTION:
URL:https://dawnyarndoll.com/index.php/event/wednesday-3-13-2024-west-coast-wednesday-wild-wips-and-crochet-chat-with-friends/
CATEGORIES:Dawn Yarn Doll Live
END:VEVENT
BEGIN:VEVENT
DTSTART;TZID=America/Los_Angeles:20240311T160000
DTEND;TZID=America/Los_Angeles:20240311T190000
DTSTAMP:20260422T150134
CREATED:20240229T041047Z
LAST-MODIFIED:20240229T041047Z
UID:1295-1710172800-1710183600@dawnyarndoll.com
SUMMARY:Let's Celebrate at Margie's Crafty Corner
DESCRIPTION:
URL:https://dawnyarndoll.com/index.php/event/lets-celebrate-at-margies-crafty-corner/
CATEGORIES:Margies Crafty Corner
END:VEVENT
BEGIN:VEVENT
DTSTART;TZID=America/Los_Angeles:20240311T073000
DTEND;TZID=America/Los_Angeles:20240311T093000
DTSTAMP:20260422T150134
CREATED:20240229T010637Z
LAST-MODIFIED:20240229T010637Z
UID:1284-1710142200-1710149400@dawnyarndoll.com
SUMMARY:Monday 3-11-2024 Howling for HOBBII BINGO Yarny talk with Friends
DESCRIPTION:
URL:https://dawnyarndoll.com/index.php/event/monday-3-11-2024-howling-for-hobbii-bingo-yarny-talk-with-friends/
CATEGORIES:Dawn Yarn Doll Live
END:VEVENT
BEGIN:VEVENT
DTSTART;TZID=America/Los_Angeles:20240309T090000
DTEND;TZID=America/Los_Angeles:20240309T110000
DTSTAMP:20260422T150134
CREATED:20240307T042731Z
LAST-MODIFIED:20240307T042731Z
UID:1304-1709974800-1709982000@dawnyarndoll.com
SUMMARY:Porch Chat With Niese | Crochet\, Craft\, & Relax Tme With Friends!
DESCRIPTION:
URL:https://dawnyarndoll.com/index.php/event/porch-chat-with-niese-crochet-craft-relax-tme-with-friends/
CATEGORIES:Freehandly made Au
END:VEVENT
BEGIN:VEVENT
DTSTART;TZID=America/Los_Angeles:20240307T140000
DTEND;TZID=America/Los_Angeles:20240307T150000
DTSTAMP:20260422T150134
CREATED:20240222T233354Z
LAST-MODIFIED:20240222T233354Z
UID:1253-1709820000-1709823600@dawnyarndoll.com
SUMMARY:Coffee and Chat along on Margies Crafty Corner
DESCRIPTION:
URL:https://dawnyarndoll.com/index.php/event/coffee-and-chat-along-on-margies-crafty-corner-10/
CATEGORIES:Margies Crafty Corner
END:VEVENT
BEGIN:VEVENT
DTSTART;TZID=America/Los_Angeles:20240306T190000
DTEND;TZID=America/Los_Angeles:20240306T210000
DTSTAMP:20260422T150134
CREATED:20240222T231332Z
LAST-MODIFIED:20240226T160143Z
UID:1234-1709751600-1709758800@dawnyarndoll.com
SUMMARY:Wednesday 3-06-2024 West Coast Wednesday Wild WIP's and Crochet Chat with Friends
DESCRIPTION:
URL:https://dawnyarndoll.com/index.php/event/wednesday-3-06-2024-west-coast-wednesday-wild-wips-and-crochet-chat-with-friends-copy/
CATEGORIES:Dawn Yarn Doll Live
END:VEVENT
BEGIN:VEVENT
DTSTART;TZID=America/Los_Angeles:20240306T180000
DTEND;TZID=America/Los_Angeles:20240306T200000
DTSTAMP:20260422T150134
CREATED:20240229T011111Z
LAST-MODIFIED:20240306T183357Z
UID:1291-1709748000-1709755200@dawnyarndoll.com
SUMMARY:Midwest Wednesday chit chat ~ let the March celebrations continue 🎊🥰
DESCRIPTION:
URL:https://dawnyarndoll.com/index.php/event/midwest-wednesday-hangout-with-michi-friends/
CATEGORIES:Michi's Crochet Nook
END:VEVENT
BEGIN:VEVENT
DTSTART;TZID=America/Los_Angeles:20240304T093000
DTEND;TZID=America/Los_Angeles:20240304T113000
DTSTAMP:20260422T150134
CREATED:20240215T015617Z
LAST-MODIFIED:20240222T231536Z
UID:1208-1709544600-1709551800@dawnyarndoll.com
SUMMARY:Monday 3-04-2023 Members LiveStream After Hobbii BINGO
DESCRIPTION:
URL:https://dawnyarndoll.com/index.php/event/monday-2-26-2023-members-livestream-after-hobbii-bingo/
CATEGORIES:Dawn Yarn Doll Live
END:VEVENT
BEGIN:VEVENT
DTSTART;TZID=America/Los_Angeles:20240304T073000
DTEND;TZID=America/Los_Angeles:20240304T093000
DTSTAMP:20260422T150134
CREATED:20240222T231730Z
LAST-MODIFIED:20240222T231730Z
UID:1237-1709537400-1709544600@dawnyarndoll.com
SUMMARY:Monday 3-04-2024 Howling for HOBBII BINGO Yarny talk with Friends
DESCRIPTION:
URL:https://dawnyarndoll.com/index.php/event/monday-3-04-2024-howling-for-hobbii-bingo-yarny-talk-with-friends/
CATEGORIES:Dawn Yarn Doll Live
END:VEVENT
BEGIN:VEVENT
DTSTART;TZID=America/Los_Angeles:20240302T160000
DTEND;TZID=America/Los_Angeles:20240302T180000
DTSTAMP:20260422T150134
CREATED:20240226T041428Z
LAST-MODIFIED:20240226T041428Z
UID:1276-1709395200-1709402400@dawnyarndoll.com
SUMMARY:The Crafty Ladies
DESCRIPTION:
URL:https://dawnyarndoll.com/index.php/event/the-crafty-ladies-2/
CATEGORIES:Margies Crafty Corner
END:VEVENT
BEGIN:VEVENT
DTSTART;TZID=America/Los_Angeles:20240302T090000
DTEND;TZID=America/Los_Angeles:20240302T150000
DTSTAMP:20260422T150134
CREATED:20240229T223213Z
LAST-MODIFIED:20240229T223213Z
UID:1297-1709370000-1709391600@dawnyarndoll.com
SUMMARY:Michi’s Geburtstags Feier 🎂 ~ Michi’s Birthday celebration 🥰 to be 21 again 😆
DESCRIPTION:
URL:https://dawnyarndoll.com/index.php/event/michis-geburtstags-feier-%f0%9f%8e%82-michis-birthday-celebration-%f0%9f%a5%b0-to-be-21-again-%f0%9f%98%86/
CATEGORIES:Michi's Crochet Nook
END:VEVENT
BEGIN:VEVENT
DTSTART;TZID=America/Los_Angeles:20240301T100000
DTEND;TZID=America/Los_Angeles:20240301T120000
DTSTAMP:20260422T150134
CREATED:20240219T182029Z
LAST-MODIFIED:20240219T182029Z
UID:1226-1709287200-1709294400@dawnyarndoll.com
SUMMARY:Pams Cozy Crochet Nook
DESCRIPTION:
URL:https://dawnyarndoll.com/index.php/event/pams-cozy-crochet-nook-2/
CATEGORIES:Pam;s Cozy Crochet Nook
END:VEVENT
BEGIN:VEVENT
DTSTART;TZID=America/Los_Angeles:20240229T140000
DTEND;TZID=America/Los_Angeles:20240229T150000
DTSTAMP:20260422T150134
CREATED:20240222T233127Z
LAST-MODIFIED:20240222T233127Z
UID:1248-1709215200-1709218800@dawnyarndoll.com
SUMMARY:Coffee and Chat along on Margies Crafty Corner
DESCRIPTION:
URL:https://dawnyarndoll.com/index.php/event/coffee-and-chat-along-on-margies-crafty-corner-8/
CATEGORIES:Margies Crafty Corner
END:VEVENT
END:VCALENDAR