BEGIN:VCALENDAR
VERSION:2.0
PRODID:-//Dawn Yarn Doll - ECPv6.15.20//NONSGML v1.0//EN
CALSCALE:GREGORIAN
METHOD:PUBLISH
X-WR-CALNAME:Dawn Yarn Doll
X-ORIGINAL-URL:https://dawnyarndoll.com
X-WR-CALDESC:Events for Dawn Yarn Doll
REFRESH-INTERVAL;VALUE=DURATION:PT1H
X-Robots-Tag:noindex
X-PUBLISHED-TTL:PT1H
BEGIN:VTIMEZONE
TZID:America/Los_Angeles
BEGIN:DAYLIGHT
TZOFFSETFROM:-0800
TZOFFSETTO:-0700
TZNAME:PDT
DTSTART:20230312T100000
END:DAYLIGHT
BEGIN:STANDARD
TZOFFSETFROM:-0700
TZOFFSETTO:-0800
TZNAME:PST
DTSTART:20231105T090000
END:STANDARD
BEGIN:DAYLIGHT
TZOFFSETFROM:-0800
TZOFFSETTO:-0700
TZNAME:PDT
DTSTART:20240310T100000
END:DAYLIGHT
BEGIN:STANDARD
TZOFFSETFROM:-0700
TZOFFSETTO:-0800
TZNAME:PST
DTSTART:20241103T090000
END:STANDARD
BEGIN:DAYLIGHT
TZOFFSETFROM:-0800
TZOFFSETTO:-0700
TZNAME:PDT
DTSTART:20250309T100000
END:DAYLIGHT
BEGIN:STANDARD
TZOFFSETFROM:-0700
TZOFFSETTO:-0800
TZNAME:PST
DTSTART:20251102T090000
END:STANDARD
END:VTIMEZONE
BEGIN:VEVENT
DTSTART;TZID=America/Los_Angeles:20240417T180000
DTEND;TZID=America/Los_Angeles:20240417T200000
DTSTAMP:20260420T010836
CREATED:20240403T042625Z
LAST-MODIFIED:20240403T042625Z
UID:1364-1713376800-1713384000@dawnyarndoll.com
SUMMARY:Wednesday 4-17-2024 West Coast Wednesday Yarn\, WIP's and Crochet Chat with Friends
DESCRIPTION:
URL:https://dawnyarndoll.com/index.php/event/wednesday-4-17-2024-west-coast-wednesday-yarn-wips-and-crochet-chat-with-friends/
CATEGORIES:Dawn Yarn Doll Live
END:VEVENT
BEGIN:VEVENT
DTSTART;TZID=America/Los_Angeles:20240417T090000
DTEND;TZID=America/Los_Angeles:20240417T110000
DTSTAMP:20260420T010836
CREATED:20240403T145933Z
LAST-MODIFIED:20240403T145933Z
UID:1372-1713344400-1713351600@dawnyarndoll.com
SUMMARY:Dye Update & Bingo on Softball Susie - Twisted Roots
DESCRIPTION:
URL:https://dawnyarndoll.com/index.php/event/dye-update-bingo-on-softball-susie-twisted-roots-2/
END:VEVENT
BEGIN:VEVENT
DTSTART;TZID=America/Los_Angeles:20240416T170000
DTEND;TZID=America/Los_Angeles:20240416T190000
DTSTAMP:20260420T010836
CREATED:20240415T153010Z
LAST-MODIFIED:20240415T153010Z
UID:1423-1713286800-1713294000@dawnyarndoll.com
SUMMARY:Lets have a party!!! And Wish @jenreeves7684 A Happy Birthday🎂🍨 GIVEAWAYS
DESCRIPTION:
URL:https://dawnyarndoll.com/index.php/event/lets-have-a-party-and-wish-jenreeves7684-a-happy-birthday%f0%9f%8e%82%f0%9f%8d%a8-giveaways/
END:VEVENT
BEGIN:VEVENT
DTSTART;TZID=America/Los_Angeles:20240415T100000
DTEND;TZID=America/Los_Angeles:20240415T110000
DTSTAMP:20260420T010836
CREATED:20240403T223752Z
LAST-MODIFIED:20240403T224027Z
UID:1389-1713175200-1713178800@dawnyarndoll.com
SUMMARY:Monday 4-15-2024 Members LiveStream Tea and Chat After Hobbii BINGO
DESCRIPTION:
URL:https://dawnyarndoll.com/index.php/event/monday-4-15-2024-members-livestream-tea-and-chat-after-hobbii-bingo/
CATEGORIES:Dawn Yarn Doll Live
END:VEVENT
BEGIN:VEVENT
DTSTART;TZID=America/Los_Angeles:20240415T073000
DTEND;TZID=America/Los_Angeles:20240415T093000
DTSTAMP:20260420T010836
CREATED:20240403T223613Z
LAST-MODIFIED:20240403T223613Z
UID:1386-1713166200-1713173400@dawnyarndoll.com
SUMMARY:Monday 4-15-2024 Howling for HOBBII BINGO\, Tea and Yarny talk with Friends
DESCRIPTION:
URL:https://dawnyarndoll.com/index.php/event/monday-4-15-2024-howling-for-hobbii-bingo-tea-and-yarny-talk-with-friends/
CATEGORIES:Dawn Yarn Doll Live
END:VEVENT
BEGIN:VEVENT
DTSTART;TZID=America/Los_Angeles:20240414T170000
DTEND;TZID=America/Los_Angeles:20240414T190000
DTSTAMP:20260420T010836
CREATED:20240410T212842Z
LAST-MODIFIED:20240410T212842Z
UID:1406-1713114000-1713121200@dawnyarndoll.com
SUMMARY:Sunday Fun Day ~ Happy 1st Podaversary ~ at home with Michi & Friends
DESCRIPTION:
URL:https://dawnyarndoll.com/index.php/event/sunday-fun-day-happy-1st-podaversary-at-home-with-michi-friends/
CATEGORIES:Michi's Crochet Nook
END:VEVENT
BEGIN:VEVENT
DTSTART;TZID=America/Los_Angeles:20240411T140000
DTEND;TZID=America/Los_Angeles:20240411T160000
DTSTAMP:20260420T010836
CREATED:20240405T003406Z
LAST-MODIFIED:20240405T003406Z
UID:1400-1712844000-1712851200@dawnyarndoll.com
SUMMARY:Coffee & Chatalong at Margies Crafty Corner
DESCRIPTION:
URL:https://dawnyarndoll.com/index.php/event/coffee-chatalong-at-margies-crafty-corner-2/
CATEGORIES:Margies Crafty Corner
END:VEVENT
BEGIN:VEVENT
DTSTART;TZID=America/Los_Angeles:20240411T110000
DTEND;TZID=America/Los_Angeles:20240411T130000
DTSTAMP:20260420T010836
CREATED:20240324T024706Z
LAST-MODIFIED:20240324T024706Z
UID:1345-1712833200-1712840400@dawnyarndoll.com
SUMMARY:Let chit chat and more - MDL Crochet
DESCRIPTION:
URL:https://dawnyarndoll.com/index.php/event/let-chit-chat-and-more-mdl-crochet-3/
END:VEVENT
BEGIN:VEVENT
DTSTART;TZID=America/Los_Angeles:20240410T180000
DTEND;TZID=America/Los_Angeles:20240410T200000
DTSTAMP:20260420T010836
CREATED:20240403T042500Z
LAST-MODIFIED:20240403T042500Z
UID:1362-1712772000-1712779200@dawnyarndoll.com
SUMMARY:Wednesday 4-10-2024 West Coast Wednesday Yarn\, WIP's and Crochet Chat with Friends
DESCRIPTION:
URL:https://dawnyarndoll.com/index.php/event/wednesday-4-10-2024-west-coast-wednesday-yarn-wips-and-crochet-chat-with-friends/
CATEGORIES:Dawn Yarn Doll Live
END:VEVENT
BEGIN:VEVENT
DTSTART;TZID=America/Los_Angeles:20240410T090000
DTEND;TZID=America/Los_Angeles:20240410T110000
DTSTAMP:20260420T010836
CREATED:20240403T145749Z
LAST-MODIFIED:20240403T145749Z
UID:1370-1712739600-1712746800@dawnyarndoll.com
SUMMARY:Dye Update & Bingo on Softball Susie - Twisted Roots
DESCRIPTION:
URL:https://dawnyarndoll.com/index.php/event/dye-update-bingo-on-softball-susie-twisted-roots/
END:VEVENT
BEGIN:VEVENT
DTSTART;TZID=America/Los_Angeles:20240409T213000
DTEND;TZID=America/Los_Angeles:20240409T233000
DTSTAMP:20260420T010836
CREATED:20240403T151214Z
LAST-MODIFIED:20240403T151214Z
UID:1384-1712698200-1712705400@dawnyarndoll.com
SUMMARY:Crafts 'n' Laughs #76 on Lisa Knits and Vlogs
DESCRIPTION:
URL:https://dawnyarndoll.com/index.php/event/crafts-n-laughs-76-on-lisa-knits-and-vlogs/
CATEGORIES:Lisa Knits and Vlogs
END:VEVENT
BEGIN:VEVENT
DTSTART;TZID=America/Los_Angeles:20240408T213000
DTEND;TZID=America/Los_Angeles:20240408T233000
DTSTAMP:20260420T010836
CREATED:20240403T151055Z
LAST-MODIFIED:20240403T151055Z
UID:1381-1712611800-1712619000@dawnyarndoll.com
SUMMARY:Crafts 'n' Laughs #75 on Lisa Knits and Vlogs
DESCRIPTION:
URL:https://dawnyarndoll.com/index.php/event/crafts-n-laughs-75-on-lisa-knits-and-vlogs/
CATEGORIES:Lisa Knits and Vlogs
END:VEVENT
BEGIN:VEVENT
DTSTART;TZID=America/Los_Angeles:20240408T093000
DTEND;TZID=America/Los_Angeles:20240408T103000
DTSTAMP:20260420T010836
CREATED:20240325T171322Z
LAST-MODIFIED:20240325T171322Z
UID:1349-1712568600-1712572200@dawnyarndoll.com
SUMMARY:Monday 4-8-2024 Members LiveStream Tea and Chat After Hobbii BINGO
DESCRIPTION:
URL:https://dawnyarndoll.com/index.php/event/monday-4-8-2024-members-livestream-tea-and-chat-after-hobbii-bingo/
CATEGORIES:Dawn Yarn Doll Live
END:VEVENT
BEGIN:VEVENT
DTSTART;TZID=America/Los_Angeles:20240408T073000
DTEND;TZID=America/Los_Angeles:20240408T093000
DTSTAMP:20260420T010836
CREATED:20240325T171218Z
LAST-MODIFIED:20240325T171218Z
UID:1347-1712561400-1712568600@dawnyarndoll.com
SUMMARY:Monday 4-8-2024 Howling for HOBBII BINGO\, Tea and Yarny talk with Friends
DESCRIPTION:
URL:https://dawnyarndoll.com/index.php/event/monday-4-8-2024-howling-for-hobbii-bingo-tea-and-yarny-talk-with-friends/
CATEGORIES:Dawn Yarn Doll Live
END:VEVENT
BEGIN:VEVENT
DTSTART;TZID=America/Los_Angeles:20240407T213000
DTEND;TZID=America/Los_Angeles:20240407T233000
DTSTAMP:20260420T010836
CREATED:20240403T150858Z
LAST-MODIFIED:20240403T150858Z
UID:1379-1712525400-1712532600@dawnyarndoll.com
SUMMARY:Crafts 'n' Laughs #74 on Lisa Knits and Vlogs
DESCRIPTION:
URL:https://dawnyarndoll.com/index.php/event/crafts-n-laughs-74-on-lisa-knits-and-vlogs/
CATEGORIES:Lisa Knits and Vlogs
END:VEVENT
BEGIN:VEVENT
DTSTART;TZID=America/Los_Angeles:20240404T140000
DTEND;TZID=America/Los_Angeles:20240404T160000
DTSTAMP:20260420T010836
CREATED:20240403T043019Z
LAST-MODIFIED:20240403T043019Z
UID:1366-1712239200-1712246400@dawnyarndoll.com
SUMMARY:Coffee & Chatalong at Margies Crafty Corner
DESCRIPTION:
URL:https://dawnyarndoll.com/index.php/event/coffee-chatalong-at-margies-crafty-corner/
CATEGORIES:Margies Crafty Corner
END:VEVENT
BEGIN:VEVENT
DTSTART;TZID=America/Los_Angeles:20240404T110000
DTEND;TZID=America/Los_Angeles:20240404T130000
DTSTAMP:20260420T010836
CREATED:20240324T024556Z
LAST-MODIFIED:20240324T024556Z
UID:1342-1712228400-1712235600@dawnyarndoll.com
SUMMARY:Let chit chat and more - MDL Crochet
DESCRIPTION:
URL:https://dawnyarndoll.com/index.php/event/let-chit-chat-and-more-mdl-crochet-2/
END:VEVENT
BEGIN:VEVENT
DTSTART;TZID=America/Los_Angeles:20240403T180000
DTEND;TZID=America/Los_Angeles:20240403T200000
DTSTAMP:20260420T010836
CREATED:20240318T172641Z
LAST-MODIFIED:20240318T172641Z
UID:1334-1712167200-1712174400@dawnyarndoll.com
SUMMARY:Wednesday 4-3-2024 West Coast Wednesday Yarn\, WIP's and Crochet Chat with Friends
DESCRIPTION:
URL:https://dawnyarndoll.com/index.php/event/wednesday-4-3-2024-west-coast-wednesday-yarn-wips-and-crochet-chat-with-friends/
CATEGORIES:Dawn Yarn Doll Live
END:VEVENT
BEGIN:VEVENT
DTSTART;TZID=America/Los_Angeles:20240403T090000
DTEND;TZID=America/Los_Angeles:20240403T110000
DTSTAMP:20260420T010836
CREATED:20240403T145514Z
LAST-MODIFIED:20240403T145514Z
UID:1368-1712134800-1712142000@dawnyarndoll.com
SUMMARY:Dye Update & Chat on Softball Susie - Twisted Roots
DESCRIPTION:
URL:https://dawnyarndoll.com/index.php/event/dye-update-chat-on-softball-susie-twisted-roots/
END:VEVENT
BEGIN:VEVENT
DTSTART;TZID=America/Los_Angeles:20240402T203000
DTEND;TZID=America/Los_Angeles:20240402T213000
DTSTAMP:20260420T010836
CREATED:20240327T154424Z
LAST-MODIFIED:20240327T154424Z
UID:1357-1712089800-1712093400@dawnyarndoll.com
SUMMARY:Crafts 'n' Laughs #73 on Lisa Knits and Vlogs
DESCRIPTION:
URL:https://dawnyarndoll.com/index.php/event/crafts-n-laughs-73-on-lisa-knits-and-vlogs/
CATEGORIES:Lisa Knits and Vlogs
END:VEVENT
BEGIN:VEVENT
DTSTART;TZID=America/Los_Angeles:20240401T203000
DTEND;TZID=America/Los_Angeles:20240401T213000
DTSTAMP:20260420T010836
CREATED:20240327T154036Z
LAST-MODIFIED:20240327T154036Z
UID:1355-1712003400-1712007000@dawnyarndoll.com
SUMMARY:Crafts 'n' Laughs #72 on Lisa Knits and Vlogs
DESCRIPTION:
URL:https://dawnyarndoll.com/index.php/event/crafts-n-laughs-72-on-lisa-knits-and-vlogs/
CATEGORIES:Lisa Knits and Vlogs
END:VEVENT
BEGIN:VEVENT
DTSTART;TZID=America/Los_Angeles:20240401T090000
DTEND;TZID=America/Los_Angeles:20240401T100000
DTSTAMP:20260420T010836
CREATED:20240318T172453Z
LAST-MODIFIED:20240318T172453Z
UID:1331-1711962000-1711965600@dawnyarndoll.com
SUMMARY:Monday 4-1-2024 Members LiveStream Tea and Chat After Hobbii BINGO
DESCRIPTION:
URL:https://dawnyarndoll.com/index.php/event/monday-4-1-2024-members-livestream-tea-and-chat-after-hobbii-bingo/
CATEGORIES:Dawn Yarn Doll Live
END:VEVENT
BEGIN:VEVENT
DTSTART;TZID=America/Los_Angeles:20240401T073000
DTEND;TZID=America/Los_Angeles:20240401T090000
DTSTAMP:20260420T010836
CREATED:20240318T172258Z
LAST-MODIFIED:20240318T172339Z
UID:1329-1711956600-1711962000@dawnyarndoll.com
SUMMARY:Monday 4-1-2024 NO HOBBII BINGO\, Tea and Yarny talk with Friends THERE WILL BE A LIVE
DESCRIPTION:
URL:https://dawnyarndoll.com/index.php/event/monday-4-1-2024-no-hobbii-bingo-tea-and-yarny-talk-with-friends-there-will-be-a-live/
CATEGORIES:Dawn Yarn Doll Live
END:VEVENT
BEGIN:VEVENT
DTSTART;TZID=America/Los_Angeles:20240331T203000
DTEND;TZID=America/Los_Angeles:20240331T213000
DTSTAMP:20260420T010836
CREATED:20240327T153908Z
LAST-MODIFIED:20240327T153908Z
UID:1353-1711917000-1711920600@dawnyarndoll.com
SUMMARY:Crafts 'n' Laughs #71 on Lisa Knits and Vlogs
DESCRIPTION:
URL:https://dawnyarndoll.com/index.php/event/crafts-n-laughs-71-on-lisa-knits-and-vlogs/
CATEGORIES:Lisa Knits and Vlogs
END:VEVENT
BEGIN:VEVENT
DTSTART;TZID=America/Los_Angeles:20240328T140000
DTEND;TZID=America/Los_Angeles:20240328T150000
DTSTAMP:20260420T010836
CREATED:20240222T233557Z
LAST-MODIFIED:20240222T233557Z
UID:1259-1711634400-1711638000@dawnyarndoll.com
SUMMARY:Coffee and Chat along on Margies Crafty Corner
DESCRIPTION:
URL:https://dawnyarndoll.com/index.php/event/coffee-and-chat-along-on-margies-crafty-corner-13/
CATEGORIES:Margies Crafty Corner
END:VEVENT
BEGIN:VEVENT
DTSTART;TZID=America/Los_Angeles:20240328T130000
DTEND;TZID=America/Los_Angeles:20240328T150000
DTSTAMP:20260420T010836
CREATED:20240327T154853Z
LAST-MODIFIED:20240327T154853Z
UID:1359-1711630800-1711638000@dawnyarndoll.com
SUMMARY:Mel's 2nd Podaversary Party!!! Let's Celebrate!! on Lethaleya's Little Hook with Melanie
DESCRIPTION:
URL:https://dawnyarndoll.com/index.php/event/mels-2nd-podaversary-party-lets-celebrate-on-lethaleyas-little-hook-with-melanie/
END:VEVENT
BEGIN:VEVENT
DTSTART;TZID=America/Los_Angeles:20240328T110000
DTEND;TZID=America/Los_Angeles:20240328T130000
DTSTAMP:20260420T010836
CREATED:20240324T024416Z
LAST-MODIFIED:20240324T024416Z
UID:1340-1711623600-1711630800@dawnyarndoll.com
SUMMARY:Let chit chat and more - MDL Crochet
DESCRIPTION:
URL:https://dawnyarndoll.com/index.php/event/let-chit-chat-and-more-mdl-crochet/
END:VEVENT
BEGIN:VEVENT
DTSTART;TZID=America/Los_Angeles:20240327T180000
DTEND;TZID=America/Los_Angeles:20240327T200000
DTSTAMP:20260420T010836
CREATED:20240318T172857Z
LAST-MODIFIED:20240318T172857Z
UID:1336-1711562400-1711569600@dawnyarndoll.com
SUMMARY:Wednesday 3-27-2024 West Coast Wednesday Yarn\, WIP's and Crochet Chat with Friends
DESCRIPTION:
URL:https://dawnyarndoll.com/index.php/event/wednesday-3-27-2024-west-coast-wednesday-yarn-wips-and-crochet-chat-with-friends/
CATEGORIES:Dawn Yarn Doll Live
END:VEVENT
BEGIN:VEVENT
DTSTART;TZID=America/Los_Angeles:20240325T110000
DTEND;TZID=America/Los_Angeles:20240325T120000
DTSTAMP:20260420T010836
CREATED:20240311T145121Z
LAST-MODIFIED:20240311T145121Z
UID:1312-1711364400-1711368000@dawnyarndoll.com
SUMMARY:Monday 3-25-2024 Members LiveStream Tea and Chat After Hobbii BINGO
DESCRIPTION:
URL:https://dawnyarndoll.com/index.php/event/monday-3-25-2024-members-livestream-tea-and-chat-after-hobbii-bingo/
CATEGORIES:Dawn Yarn Doll Live
END:VEVENT
BEGIN:VEVENT
DTSTART;TZID=America/Los_Angeles:20240325T083000
DTEND;TZID=America/Los_Angeles:20240325T103000
DTSTAMP:20260420T010836
CREATED:20240311T145406Z
LAST-MODIFIED:20240311T145940Z
UID:1314-1711355400-1711362600@dawnyarndoll.com
SUMMARY:Monday 3-25-2024 Howling for HOBBII BINGO\, Tea and Yarny talk with Friends
DESCRIPTION:
URL:https://dawnyarndoll.com/index.php/event/monday-3-25-2024-howling-for-hobbii-bingo-tea-and-yarny-talk-with-friends/
CATEGORIES:Dawn Yarn Doll Live
END:VEVENT
END:VCALENDAR