BEGIN:VCALENDAR
VERSION:2.0
PRODID:-//Dawn Yarn Doll - ECPv6.15.20//NONSGML v1.0//EN
CALSCALE:GREGORIAN
METHOD:PUBLISH
X-WR-CALNAME:Dawn Yarn Doll
X-ORIGINAL-URL:https://dawnyarndoll.com
X-WR-CALDESC:Events for Dawn Yarn Doll
REFRESH-INTERVAL;VALUE=DURATION:PT1H
X-Robots-Tag:noindex
X-PUBLISHED-TTL:PT1H
BEGIN:VTIMEZONE
TZID:America/Los_Angeles
BEGIN:DAYLIGHT
TZOFFSETFROM:-0800
TZOFFSETTO:-0700
TZNAME:PDT
DTSTART:20230312T100000
END:DAYLIGHT
BEGIN:STANDARD
TZOFFSETFROM:-0700
TZOFFSETTO:-0800
TZNAME:PST
DTSTART:20231105T090000
END:STANDARD
BEGIN:DAYLIGHT
TZOFFSETFROM:-0800
TZOFFSETTO:-0700
TZNAME:PDT
DTSTART:20240310T100000
END:DAYLIGHT
BEGIN:STANDARD
TZOFFSETFROM:-0700
TZOFFSETTO:-0800
TZNAME:PST
DTSTART:20241103T090000
END:STANDARD
BEGIN:DAYLIGHT
TZOFFSETFROM:-0800
TZOFFSETTO:-0700
TZNAME:PDT
DTSTART:20250309T100000
END:DAYLIGHT
BEGIN:STANDARD
TZOFFSETFROM:-0700
TZOFFSETTO:-0800
TZNAME:PST
DTSTART:20251102T090000
END:STANDARD
END:VTIMEZONE
BEGIN:VEVENT
DTSTART;TZID=America/Los_Angeles:20240218T130000
DTEND;TZID=America/Los_Angeles:20240218T170000
DTSTAMP:20260423T011139
CREATED:20240208T201049Z
LAST-MODIFIED:20240208T201049Z
UID:1179-1708261200-1708275600@dawnyarndoll.com
SUMMARY:Hooked on Sundays with Scraptastic Crocheter
DESCRIPTION:
URL:https://dawnyarndoll.com/index.php/event/hooked-on-sundays-with-scraptastic-crocheter-4/
CATEGORIES:Scraptastic Crocheter Live
END:VEVENT
BEGIN:VEVENT
DTSTART;TZID=America/Los_Angeles:20240218T090000
DTEND;TZID=America/Los_Angeles:20240218T110000
DTSTAMP:20260423T011139
CREATED:20240215T020314Z
LAST-MODIFIED:20240215T020314Z
UID:1212-1708246800-1708254000@dawnyarndoll.com
SUMMARY:"Somebunny" Sunday #7 on Ms C's Cottage
DESCRIPTION:
URL:https://dawnyarndoll.com/index.php/event/somebunny-sunday-7-on-ms-cs-cottage/
CATEGORIES:Ms C's Cottage
END:VEVENT
BEGIN:VEVENT
DTSTART;TZID=America/Los_Angeles:20240216T170000
DTEND;TZID=America/Los_Angeles:20240216T200000
DTSTAMP:20260423T011139
CREATED:20240213T181647Z
LAST-MODIFIED:20240213T181647Z
UID:1202-1708102800-1708113600@dawnyarndoll.com
SUMMARY:Creating and Auctioning Unique Watercolor Artwork and Sketchbook (February)
DESCRIPTION:
URL:https://dawnyarndoll.com/index.php/event/creating-and-auctioning-unique-watercolor-artwork-and-sketchbook-february/
CATEGORIES:Little Treasures by Nancy Lives
END:VEVENT
BEGIN:VEVENT
DTSTART;TZID=America/Los_Angeles:20240215T140000
DTEND;TZID=America/Los_Angeles:20240215T150000
DTSTAMP:20260423T011139
CREATED:20240213T182146Z
LAST-MODIFIED:20240213T182146Z
UID:1204-1708005600-1708009200@dawnyarndoll.com
SUMMARY:Coffee and Chat along on Margies Crafty Corner
DESCRIPTION:
URL:https://dawnyarndoll.com/index.php/event/coffee-and-chat-along-on-margies-crafty-corner-7/
CATEGORIES:Margies Crafty Corner
END:VEVENT
BEGIN:VEVENT
DTSTART;TZID=America/Los_Angeles:20240214T205500
DTEND;TZID=America/Los_Angeles:20240214T230000
DTSTAMP:20260423T011139
CREATED:20240212T150900Z
LAST-MODIFIED:20240212T150900Z
UID:1195-1707944100-1707951600@dawnyarndoll.com
SUMMARY:Late Night Chit Chat ~ Happy Valentines Day Midwest Wednesday roundup on Michi's Crochet Nook
DESCRIPTION:
URL:https://dawnyarndoll.com/index.php/event/late-night-chit-chat-happy-valentines-day-midwest-wednesday-roundup-on-michis-crochet-nook/
CATEGORIES:Michi's Crochet Nook
END:VEVENT
BEGIN:VEVENT
DTSTART;TZID=America/Los_Angeles:20240214T190000
DTEND;TZID=America/Los_Angeles:20240214T210000
DTSTAMP:20260423T011139
CREATED:20240202T145111Z
LAST-MODIFIED:20240202T145111Z
UID:1153-1707937200-1707944400@dawnyarndoll.com
SUMMARY:Wednesday 2-14-2024 West Coast Wednesday Wild WIP's and Crochet Chat with Friends
DESCRIPTION:
URL:https://dawnyarndoll.com/index.php/event/wednesday-2-14-2024-west-coast-wednesday-wild-wips-and-crochet-chat-with-friends/
CATEGORIES:Dawn Yarn Doll Live
END:VEVENT
BEGIN:VEVENT
DTSTART;TZID=America/Los_Angeles:20240214T170000
DTEND;TZID=America/Los_Angeles:20240214T190000
DTSTAMP:20260423T011139
CREATED:20240213T181543Z
LAST-MODIFIED:20240213T181543Z
UID:1199-1707930000-1707937200@dawnyarndoll.com
SUMMARY:Sketch With Me: Live Miniature Drawing Session Every Wednesday! on Little Treasures by Nancy
DESCRIPTION:
URL:https://dawnyarndoll.com/index.php/event/sketch-with-me-live-miniature-drawing-session-every-wednesday-on-little-treasures-by-nancy/
CATEGORIES:Little Treasures by Nancy Lives
END:VEVENT
BEGIN:VEVENT
DTSTART;TZID=America/Los_Angeles:20240213T170000
DTEND;TZID=America/Los_Angeles:20240213T190000
DTSTAMP:20260423T011139
CREATED:20240213T181339Z
LAST-MODIFIED:20240213T181339Z
UID:1197-1707843600-1707850800@dawnyarndoll.com
SUMMARY:Embarking on a New Miniature Adventure: Crafting a Garden Room Box! on Little Treasures by Nancy
DESCRIPTION:
URL:https://dawnyarndoll.com/index.php/event/embarking-on-a-new-miniature-adventure-crafting-a-garden-room-box-on-little-treasures-by-nancy/
CATEGORIES:Little Treasures by Nancy Lives
END:VEVENT
BEGIN:VEVENT
DTSTART;TZID=America/Los_Angeles:20240212T160000
DTEND;TZID=America/Los_Angeles:20240212T180000
DTSTAMP:20260423T011139
CREATED:20240207T235653Z
LAST-MODIFIED:20240207T235653Z
UID:1175-1707753600-1707760800@dawnyarndoll.com
SUMMARY:Just Bee Stitchin’ / Valentine’s Day on Bee Creative Crafts
DESCRIPTION:
URL:https://dawnyarndoll.com/index.php/event/just-bee-stitchin-valentines-day-on-bee-creative-crafts/
CATEGORIES:Bee Creative Crafts Lives
END:VEVENT
BEGIN:VEVENT
DTSTART;TZID=America/Los_Angeles:20240212T093000
DTEND;TZID=America/Los_Angeles:20240212T113000
DTSTAMP:20260423T011139
CREATED:20240202T144733Z
LAST-MODIFIED:20240202T144733Z
UID:1149-1707730200-1707737400@dawnyarndoll.com
SUMMARY:Monday 2-12-2023 Members LiveStream After Hobbii BINGO
DESCRIPTION:
URL:https://dawnyarndoll.com/index.php/event/monday-2-12-2023-members-livestream-after-hobbii-bingo/
CATEGORIES:Dawn Yarn Doll Live
END:VEVENT
BEGIN:VEVENT
DTSTART;TZID=America/Los_Angeles:20240212T073000
DTEND;TZID=America/Los_Angeles:20240212T093000
DTSTAMP:20260423T011139
CREATED:20240202T144620Z
LAST-MODIFIED:20240202T144620Z
UID:1146-1707723000-1707730200@dawnyarndoll.com
SUMMARY:Monday 2-12-2024 Howling for HOBBII BINGO Yarny talk with Friends
DESCRIPTION:
URL:https://dawnyarndoll.com/index.php/event/monday-2-12-2024-howling-for-hobbii-bingo-yarny-talk-with-friends/
CATEGORIES:Dawn Yarn Doll Live
END:VEVENT
BEGIN:VEVENT
DTSTART;TZID=America/Los_Angeles:20240211T170000
DTEND;TZID=America/Los_Angeles:20240211T190000
DTSTAMP:20260423T011139
CREATED:20240211T213404Z
LAST-MODIFIED:20240211T213404Z
UID:1187-1707670800-1707678000@dawnyarndoll.com
SUMMARY:Sunday Fun Day ~ yarn haul\, chit chat\, giveaway?😉 on Michi's Crochet Nook
DESCRIPTION:
URL:https://dawnyarndoll.com/index.php/event/sunday-fun-day-yarn-haul-chit-chat-giveaway%f0%9f%98%89-on-michis-crochet-nook/
CATEGORIES:Michi's Crochet Nook
END:VEVENT
BEGIN:VEVENT
DTSTART;TZID=America/Los_Angeles:20240211T130000
DTEND;TZID=America/Los_Angeles:20240211T170000
DTSTAMP:20260423T011139
CREATED:20240208T200918Z
LAST-MODIFIED:20240208T200918Z
UID:1177-1707656400-1707670800@dawnyarndoll.com
SUMMARY:Hooked on Sundays with Scraptastic Crocheter
DESCRIPTION:
URL:https://dawnyarndoll.com/index.php/event/hooked-on-sundays-with-scraptastic-crocheter-3/
CATEGORIES:Scraptastic Crocheter Live
END:VEVENT
BEGIN:VEVENT
DTSTART;TZID=America/Los_Angeles:20240210T160000
DTEND;TZID=America/Los_Angeles:20240210T180000
DTSTAMP:20260423T011139
CREATED:20240208T201303Z
LAST-MODIFIED:20240208T201303Z
UID:1181-1707580800-1707588000@dawnyarndoll.com
SUMMARY:Let’s Get Crafting with Bee Creative Crafts
DESCRIPTION:
URL:https://dawnyarndoll.com/index.php/event/lets-get-crafting-with-bee-creative-crafts/
CATEGORIES:Bee Creative Crafts Lives
END:VEVENT
BEGIN:VEVENT
DTSTART;TZID=America/Los_Angeles:20240209T170000
DTEND;TZID=America/Los_Angeles:20240209T200000
DTSTAMP:20260423T011139
CREATED:20240207T235417Z
LAST-MODIFIED:20240207T235417Z
UID:1172-1707498000-1707508800@dawnyarndoll.com
SUMMARY:Craft with me - Button Craft Challenge on Little Treasures by Nancy
DESCRIPTION:
URL:https://dawnyarndoll.com/index.php/event/craft-with-me-button-craft-challenge-on-little-treasures-by-nancy/
CATEGORIES:Little Treasures by Nancy Lives
END:VEVENT
BEGIN:VEVENT
DTSTART;TZID=America/Los_Angeles:20240208T180000
DTEND;TZID=America/Los_Angeles:20240208T200000
DTSTAMP:20260423T011139
CREATED:20240208T201535Z
LAST-MODIFIED:20240208T201535Z
UID:1183-1707415200-1707422400@dawnyarndoll.com
SUMMARY:Off the Hook: Episode 73 / The Sedge Stitch - Let’s make a Washcloth Bee Creative Crafts
DESCRIPTION:
URL:https://dawnyarndoll.com/index.php/event/off-the-hook-episode-73-the-sedge-stitch-lets-make-a-washcloth-bee-creative-crafts/
CATEGORIES:Bee Creative Crafts Lives
END:VEVENT
BEGIN:VEVENT
DTSTART;TZID=America/Los_Angeles:20240208T140000
DTEND;TZID=America/Los_Angeles:20240208T150000
DTSTAMP:20260423T011139
CREATED:20240113T042500Z
LAST-MODIFIED:20240113T042500Z
UID:1028-1707400800-1707404400@dawnyarndoll.com
SUMMARY:Coffee and Chat along on Margies Crafty Corner
DESCRIPTION:
URL:https://dawnyarndoll.com/index.php/event/coffee-and-chat-along-on-margies-crafty-corner-6/
CATEGORIES:Margies Crafty Corner
END:VEVENT
BEGIN:VEVENT
DTSTART;TZID=America/Los_Angeles:20240207T190000
DTEND;TZID=America/Los_Angeles:20240207T210000
DTSTAMP:20260423T011139
CREATED:20240202T144958Z
LAST-MODIFIED:20240202T144958Z
UID:1151-1707332400-1707339600@dawnyarndoll.com
SUMMARY:Wednesday 2-7-2024 West Coast Wednesday Wild WIP's and Crochet Chat with Friends
DESCRIPTION:
URL:https://dawnyarndoll.com/index.php/event/wednesday-2-7-2024-west-coast-wednesday-wild-wips-and-crochet-chat-with-friends/
CATEGORIES:Dawn Yarn Doll Live
END:VEVENT
BEGIN:VEVENT
DTSTART;TZID=America/Los_Angeles:20240205T093000
DTEND;TZID=America/Los_Angeles:20240205T113000
DTSTAMP:20260423T011139
CREATED:20240121T211655Z
LAST-MODIFIED:20240121T211655Z
UID:1070-1707125400-1707132600@dawnyarndoll.com
SUMMARY:Monday 2-5-2023 Members LiveStream After Hobbii BINGO
DESCRIPTION:You Tube Members Only Live Stream
URL:https://dawnyarndoll.com/index.php/event/monday-2-5-2023-members-livestream-after-hobbii-bingo/
CATEGORIES:Dawn Yarn Doll Live
END:VEVENT
BEGIN:VEVENT
DTSTART;TZID=America/Los_Angeles:20240205T073000
DTEND;TZID=America/Los_Angeles:20240205T093000
DTSTAMP:20260423T011139
CREATED:20240121T211454Z
LAST-MODIFIED:20240121T211454Z
UID:1068-1707118200-1707125400@dawnyarndoll.com
SUMMARY:Monday 2-5-2024 Howling for HOBBII BINGO Yarny talk with Friends
DESCRIPTION:
URL:https://dawnyarndoll.com/index.php/event/monday-2-5-2024-howling-for-hobbii-bingo-yarny-talk-with-friends/
CATEGORIES:Dawn Yarn Doll Live
END:VEVENT
BEGIN:VEVENT
DTSTART;TZID=America/Los_Angeles:20240204T170000
DTEND;TZID=America/Los_Angeles:20240204T190000
DTSTAMP:20260423T011139
CREATED:20240203T173512Z
LAST-MODIFIED:20240203T173512Z
UID:1161-1707066000-1707073200@dawnyarndoll.com
SUMMARY:Zu Hause 🏠 at home with Michi & Freunde on Michi's Crochet Nook
DESCRIPTION:
URL:https://dawnyarndoll.com/index.php/event/zu-hause-%f0%9f%8f%a0-at-home-with-michi-freunde-on-michis-crochet-nook/
CATEGORIES:Michi's Crochet Nook
END:VEVENT
BEGIN:VEVENT
DTSTART;TZID=America/Los_Angeles:20240204T130000
DTEND;TZID=America/Los_Angeles:20240204T170000
DTSTAMP:20260423T011139
CREATED:20240118T234144Z
LAST-MODIFIED:20240118T234144Z
UID:1055-1707051600-1707066000@dawnyarndoll.com
SUMMARY:Birthday Special! - Hooked on Sundays with Scraptastic Crocheter
DESCRIPTION:
URL:https://dawnyarndoll.com/index.php/event/birthday-special-hooked-on-sundays-with-scraptastic-crocheter/
CATEGORIES:Scraptastic Crocheter Live
END:VEVENT
BEGIN:VEVENT
DTSTART;TZID=America/Los_Angeles:20240203T160000
DTEND;TZID=America/Los_Angeles:20240203T190000
DTSTAMP:20260423T011139
CREATED:20240107T011439Z
LAST-MODIFIED:20240126T035032Z
UID:848-1706976000-1706986800@dawnyarndoll.com
SUMMARY:The Crafty Ladies / St Patrick’s Day & Spring Crafts
DESCRIPTION:Here are some supplies you’ll need if you would like to craft along with us: \nGingham Paint technique \nWooden Cutout of your choice \n\nPaint – 1 beige or white & 3 shades of one color OR beige and 1 dark color of your choice (then you can mix the paint to get your 3 shades)\nPainter’s tape\nPaint brush\n\nMini Book Stack \n\nTumbling Tower Blocks – 16 blocks per book for a total of 48 (the boxes I have from Dollar Tree have 36 blocks per box so you will need 2 boxes to make 3 mini books)\nPaint of your choice\nPaint Brush\nEmbellishments of your choice. Examples: flowers\, ribbon\, rub on transfers\, etc.\n\nWe may have a crochet item IF we have time for all 3 projects. \n It will be a little green basket that looks like a hat. \n\nIf time allows\, you’ll need yarn in Green\, Black and Yellow.\nIt’s a small project so you can use up some scraps of each or the mini skeins of 90ish yards will more than enough.
URL:https://dawnyarndoll.com/index.php/event/the-crafty-ladies/
CATEGORIES:Bee Creative Crafts Lives
END:VEVENT
BEGIN:VEVENT
DTSTART;TZID=America/Los_Angeles:20240202T170000
DTEND;TZID=America/Los_Angeles:20240202T200000
DTSTAMP:20260423T011139
CREATED:20240202T145427Z
LAST-MODIFIED:20240202T145427Z
UID:1155-1706893200-1706904000@dawnyarndoll.com
SUMMARY:CROCHET CACTI can't be killed even by me on Little Treasures By Nancy
DESCRIPTION:
URL:https://dawnyarndoll.com/index.php/event/crochet-cacti-cant-be-killed-even-by-me-on-little-treasures-by-nancy/
CATEGORIES:Little Treasures by Nancy Lives
END:VEVENT
BEGIN:VEVENT
DTSTART;TZID=America/Los_Angeles:20240202T100000
DTEND;TZID=America/Los_Angeles:20240202T120000
DTSTAMP:20260423T011139
CREATED:20240128T012613Z
LAST-MODIFIED:20240128T012613Z
UID:1119-1706868000-1706875200@dawnyarndoll.com
SUMMARY:Happy February! on Kiwi's Crochet Corner
DESCRIPTION:
URL:https://dawnyarndoll.com/index.php/event/happy-february-on-kiwis-crochet-corner/
CATEGORIES:Kiwi's Crochet Corner
END:VEVENT
BEGIN:VEVENT
DTSTART;TZID=America/Los_Angeles:20240201T140000
DTEND;TZID=America/Los_Angeles:20240201T150000
DTSTAMP:20260423T011139
CREATED:20240105T010139Z
LAST-MODIFIED:20240105T010139Z
UID:842-1706796000-1706799600@dawnyarndoll.com
SUMMARY:Coffee and Chat along on Margies Crafty Corner
DESCRIPTION:
URL:https://dawnyarndoll.com/index.php/event/coffee-and-chat-along-on-margies-crafty-corner-5/
CATEGORIES:Margies Crafty Corner
END:VEVENT
BEGIN:VEVENT
DTSTART;TZID=America/Los_Angeles:20240131T210000
DTEND;TZID=America/Los_Angeles:20240131T230000
DTSTAMP:20260423T011139
CREATED:20240118T184838Z
LAST-MODIFIED:20240118T184838Z
UID:1046-1706734800-1706742000@dawnyarndoll.com
SUMMARY:Wednesday 1-31-2024 West Coast Wednesday Wild WIP's and Crochet Chat with Friends
DESCRIPTION:
URL:https://dawnyarndoll.com/index.php/event/wednesday-1-31-2024-west-coast-wednesday-wild-wips-and-crochet-chat-with-friends/
CATEGORIES:Dawn Yarn Doll Live,Margies Crafty Corner
END:VEVENT
BEGIN:VEVENT
DTSTART;TZID=America/Los_Angeles:20240130T170000
DTEND;TZID=America/Los_Angeles:20240130T190000
DTSTAMP:20260423T011139
CREATED:20240128T215032Z
LAST-MODIFIED:20240128T215032Z
UID:1126-1706634000-1706641200@dawnyarndoll.com
SUMMARY:Completing Our Miniature Gameroom: The Final Touches on Little Treasures By Nancy
DESCRIPTION:
URL:https://dawnyarndoll.com/index.php/event/completing-our-miniature-gameroom-the-final-touches-on-little-treasures-by-nancy/
CATEGORIES:Little Treasures by Nancy Lives
END:VEVENT
BEGIN:VEVENT
DTSTART;TZID=America/Los_Angeles:20240129T093000
DTEND;TZID=America/Los_Angeles:20240129T113000
DTSTAMP:20260423T011139
CREATED:20240121T211214Z
LAST-MODIFIED:20240121T211214Z
UID:1066-1706520600-1706527800@dawnyarndoll.com
SUMMARY:Monday 1-29-2023 Members LiveStream After Hobbii BINGO
DESCRIPTION:You Tube Members Only Live Stream
URL:https://dawnyarndoll.com/index.php/event/monday-1-29-2023-members-livestream-after-hobbii-bingo/
CATEGORIES:Dawn Yarn Doll Live
END:VEVENT
BEGIN:VEVENT
DTSTART;TZID=America/Los_Angeles:20240129T073000
DTEND;TZID=America/Los_Angeles:20240129T103000
DTSTAMP:20260423T011139
CREATED:20240115T233355Z
LAST-MODIFIED:20240115T233355Z
UID:1038-1706513400-1706524200@dawnyarndoll.com
SUMMARY:Monday 1-29-2024 Howling for HOBBII BINGO Yarny talk with Friends
DESCRIPTION:
URL:https://dawnyarndoll.com/index.php/event/monday-1-29-2024-howling-for-hobbii-bingo-yarny-talk-with-friends/
CATEGORIES:Dawn Yarn Doll Live
END:VEVENT
END:VCALENDAR