BEGIN:VCALENDAR
VERSION:2.0
PRODID:-//Dawn Yarn Doll - ECPv6.15.20//NONSGML v1.0//EN
CALSCALE:GREGORIAN
METHOD:PUBLISH
X-WR-CALNAME:Dawn Yarn Doll
X-ORIGINAL-URL:https://dawnyarndoll.com
X-WR-CALDESC:Events for Dawn Yarn Doll
REFRESH-INTERVAL;VALUE=DURATION:PT1H
X-Robots-Tag:noindex
X-PUBLISHED-TTL:PT1H
BEGIN:VTIMEZONE
TZID:America/Los_Angeles
BEGIN:DAYLIGHT
TZOFFSETFROM:-0800
TZOFFSETTO:-0700
TZNAME:PDT
DTSTART:20230312T100000
END:DAYLIGHT
BEGIN:STANDARD
TZOFFSETFROM:-0700
TZOFFSETTO:-0800
TZNAME:PST
DTSTART:20231105T090000
END:STANDARD
BEGIN:DAYLIGHT
TZOFFSETFROM:-0800
TZOFFSETTO:-0700
TZNAME:PDT
DTSTART:20240310T100000
END:DAYLIGHT
BEGIN:STANDARD
TZOFFSETFROM:-0700
TZOFFSETTO:-0800
TZNAME:PST
DTSTART:20241103T090000
END:STANDARD
BEGIN:DAYLIGHT
TZOFFSETFROM:-0800
TZOFFSETTO:-0700
TZNAME:PDT
DTSTART:20250309T100000
END:DAYLIGHT
BEGIN:STANDARD
TZOFFSETFROM:-0700
TZOFFSETTO:-0800
TZNAME:PST
DTSTART:20251102T090000
END:STANDARD
END:VTIMEZONE
BEGIN:VEVENT
DTSTART;TZID=America/Los_Angeles:20240306T180000
DTEND;TZID=America/Los_Angeles:20240306T200000
DTSTAMP:20260422T151637
CREATED:20240229T011111Z
LAST-MODIFIED:20240306T183357Z
UID:1291-1709748000-1709755200@dawnyarndoll.com
SUMMARY:Midwest Wednesday chit chat ~ let the March celebrations continue 🎊🥰
DESCRIPTION:
URL:https://dawnyarndoll.com/index.php/event/midwest-wednesday-hangout-with-michi-friends/
CATEGORIES:Michi's Crochet Nook
END:VEVENT
BEGIN:VEVENT
DTSTART;TZID=America/Los_Angeles:20240304T093000
DTEND;TZID=America/Los_Angeles:20240304T113000
DTSTAMP:20260422T151637
CREATED:20240215T015617Z
LAST-MODIFIED:20240222T231536Z
UID:1208-1709544600-1709551800@dawnyarndoll.com
SUMMARY:Monday 3-04-2023 Members LiveStream After Hobbii BINGO
DESCRIPTION:
URL:https://dawnyarndoll.com/index.php/event/monday-2-26-2023-members-livestream-after-hobbii-bingo/
CATEGORIES:Dawn Yarn Doll Live
END:VEVENT
BEGIN:VEVENT
DTSTART;TZID=America/Los_Angeles:20240304T073000
DTEND;TZID=America/Los_Angeles:20240304T093000
DTSTAMP:20260422T151637
CREATED:20240222T231730Z
LAST-MODIFIED:20240222T231730Z
UID:1237-1709537400-1709544600@dawnyarndoll.com
SUMMARY:Monday 3-04-2024 Howling for HOBBII BINGO Yarny talk with Friends
DESCRIPTION:
URL:https://dawnyarndoll.com/index.php/event/monday-3-04-2024-howling-for-hobbii-bingo-yarny-talk-with-friends/
CATEGORIES:Dawn Yarn Doll Live
END:VEVENT
BEGIN:VEVENT
DTSTART;TZID=America/Los_Angeles:20240302T160000
DTEND;TZID=America/Los_Angeles:20240302T180000
DTSTAMP:20260422T151637
CREATED:20240226T041428Z
LAST-MODIFIED:20240226T041428Z
UID:1276-1709395200-1709402400@dawnyarndoll.com
SUMMARY:The Crafty Ladies
DESCRIPTION:
URL:https://dawnyarndoll.com/index.php/event/the-crafty-ladies-2/
CATEGORIES:Margies Crafty Corner
END:VEVENT
BEGIN:VEVENT
DTSTART;TZID=America/Los_Angeles:20240302T090000
DTEND;TZID=America/Los_Angeles:20240302T150000
DTSTAMP:20260422T151637
CREATED:20240229T223213Z
LAST-MODIFIED:20240229T223213Z
UID:1297-1709370000-1709391600@dawnyarndoll.com
SUMMARY:Michi’s Geburtstags Feier 🎂 ~ Michi’s Birthday celebration 🥰 to be 21 again 😆
DESCRIPTION:
URL:https://dawnyarndoll.com/index.php/event/michis-geburtstags-feier-%f0%9f%8e%82-michis-birthday-celebration-%f0%9f%a5%b0-to-be-21-again-%f0%9f%98%86/
CATEGORIES:Michi's Crochet Nook
END:VEVENT
BEGIN:VEVENT
DTSTART;TZID=America/Los_Angeles:20240301T100000
DTEND;TZID=America/Los_Angeles:20240301T120000
DTSTAMP:20260422T151637
CREATED:20240219T182029Z
LAST-MODIFIED:20240219T182029Z
UID:1226-1709287200-1709294400@dawnyarndoll.com
SUMMARY:Pams Cozy Crochet Nook
DESCRIPTION:
URL:https://dawnyarndoll.com/index.php/event/pams-cozy-crochet-nook-2/
CATEGORIES:Pam;s Cozy Crochet Nook
END:VEVENT
BEGIN:VEVENT
DTSTART;TZID=America/Los_Angeles:20240229T140000
DTEND;TZID=America/Los_Angeles:20240229T150000
DTSTAMP:20260422T151637
CREATED:20240222T233127Z
LAST-MODIFIED:20240222T233127Z
UID:1248-1709215200-1709218800@dawnyarndoll.com
SUMMARY:Coffee and Chat along on Margies Crafty Corner
DESCRIPTION:
URL:https://dawnyarndoll.com/index.php/event/coffee-and-chat-along-on-margies-crafty-corner-8/
CATEGORIES:Margies Crafty Corner
END:VEVENT
BEGIN:VEVENT
DTSTART;TZID=America/Los_Angeles:20240228T200000
DTEND;TZID=America/Los_Angeles:20240228T230000
DTSTAMP:20260422T151637
CREATED:20240215T015845Z
LAST-MODIFIED:20240226T160234Z
UID:1209-1709150400-1709161200@dawnyarndoll.com
SUMMARY:Wednesday 2-28-2024 West Coast Wednesday Wild WIP's and Crochet Chat with Friends
DESCRIPTION:
URL:https://dawnyarndoll.com/index.php/event/wednesday-2-28-2024-west-coast-wednesday-wild-wips-and-crochet-chat-with-friends/
CATEGORIES:Dawn Yarn Doll Live
END:VEVENT
BEGIN:VEVENT
DTSTART;TZID=America/Los_Angeles:20240228T180000
DTEND;TZID=America/Los_Angeles:20240228T190000
DTSTAMP:20260422T151637
CREATED:20240226T035821Z
LAST-MODIFIED:20240226T151617Z
UID:1274-1709143200-1709146800@dawnyarndoll.com
SUMMARY:Midwest Wednesday Hangout with Michi & Friends
DESCRIPTION:
URL:https://dawnyarndoll.com/index.php/event/michis-crochet-nook/
CATEGORIES:Michi's Crochet Nook
END:VEVENT
BEGIN:VEVENT
DTSTART;TZID=America/Los_Angeles:20240227T170000
DTEND;TZID=America/Los_Angeles:20240227T180000
DTSTAMP:20260422T151637
CREATED:20240227T160950Z
LAST-MODIFIED:20240227T160951Z
UID:1282-1709053200-1709056800@dawnyarndoll.com
SUMMARY:Diana's Birthday Party - Diana D
DESCRIPTION:
URL:https://dawnyarndoll.com/index.php/event/dianas-birthday-party-diana-d/
END:VEVENT
BEGIN:VEVENT
DTSTART;TZID=America/Los_Angeles:20240227T150000
DTEND;TZID=America/Los_Angeles:20240227T170000
DTSTAMP:20260422T151637
CREATED:20240226T035236Z
LAST-MODIFIED:20240226T035236Z
UID:1271-1709046000-1709053200@dawnyarndoll.com
SUMMARY:Connie's Live Birthday Bash on Just Another Stitch
DESCRIPTION:
URL:https://dawnyarndoll.com/index.php/event/connies-live-birthday-bash-on-just-another-stitch/
END:VEVENT
BEGIN:VEVENT
DTSTART;TZID=America/Los_Angeles:20240226T093000
DTEND;TZID=America/Los_Angeles:20240226T113000
DTSTAMP:20260422T151637
CREATED:20240222T231924Z
LAST-MODIFIED:20240222T232418Z
UID:1242-1708939800-1708947000@dawnyarndoll.com
SUMMARY:Monday 2-26-2023 Members LiveStream After Hobbii BINGO - Copy
DESCRIPTION:
URL:https://dawnyarndoll.com/index.php/event/monday-2-26-2023-members-livestream-after-hobbii-bingo-copy/
CATEGORIES:Dawn Yarn Doll Live
END:VEVENT
BEGIN:VEVENT
DTSTART;TZID=America/Los_Angeles:20240226T073000
DTEND;TZID=America/Los_Angeles:20240226T093000
DTSTAMP:20260422T151637
CREATED:20240215T015455Z
LAST-MODIFIED:20240215T015455Z
UID:1206-1708932600-1708939800@dawnyarndoll.com
SUMMARY:Monday 2-26-2024 Howling for HOBBII BINGO Yarny talk with Friends
DESCRIPTION:
URL:https://dawnyarndoll.com/index.php/event/monday-2-26-2024-howling-for-hobbii-bingo-yarny-talk-with-friends/
CATEGORIES:Dawn Yarn Doll Live
END:VEVENT
BEGIN:VEVENT
DTSTART;TZID=America/Los_Angeles:20240225T170000
DTEND;TZID=America/Los_Angeles:20240225T200000
DTSTAMP:20260422T151637
CREATED:20240224T021850Z
LAST-MODIFIED:20240224T021850Z
UID:1267-1708880400-1708891200@dawnyarndoll.com
SUMMARY:Sunday Fun Day ~ zu Hause with Michi & Friends
DESCRIPTION:
URL:https://dawnyarndoll.com/index.php/event/sunday-fun-day-zu-hause-with-michi-friends/
CATEGORIES:Michi's Crochet Nook
END:VEVENT
BEGIN:VEVENT
DTSTART;TZID=America/Los_Angeles:20240225T170000
DTEND;TZID=America/Los_Angeles:20240225T190000
DTSTAMP:20260422T151637
CREATED:20240211T215322Z
LAST-MODIFIED:20240211T215322Z
UID:1191-1708880400-1708887600@dawnyarndoll.com
SUMMARY:Sunday Fun Day ~ yarn haul\, chit chat\, giveaway?😉 on Michi's Crochet Nook
DESCRIPTION:
URL:https://dawnyarndoll.com/index.php/event/sunday-fun-day-yarn-haul-chit-chat-giveaway%f0%9f%98%89-on-michis-crochet-nook-3/
CATEGORIES:Michi's Crochet Nook
END:VEVENT
BEGIN:VEVENT
DTSTART;TZID=America/Los_Angeles:20240225T130000
DTEND;TZID=America/Los_Angeles:20240225T170000
DTSTAMP:20260422T151637
CREATED:20240211T215807Z
LAST-MODIFIED:20240221T184714Z
UID:1193-1708866000-1708880400@dawnyarndoll.com
SUMMARY:Hooked on Sundays with Scraptastic Crocheter
DESCRIPTION:
URL:https://dawnyarndoll.com/index.php/event/hooked-on-sundays-with-scraptastic-crocheter-5/
CATEGORIES:Scraptastic Crocheter Live
END:VEVENT
BEGIN:VEVENT
DTSTART;TZID=America/Los_Angeles:20240225T090000
DTEND;TZID=America/Los_Angeles:20240225T110000
DTSTAMP:20260422T151637
CREATED:20240215T020521Z
LAST-MODIFIED:20240215T020521Z
UID:1214-1708851600-1708858800@dawnyarndoll.com
SUMMARY:"Somebunny" Sunday #8 on Ms C's Cottage - Copy
DESCRIPTION:
URL:https://dawnyarndoll.com/index.php/event/somebunny-sunday-8-on-ms-cs-cottage-copy/
CATEGORIES:Ms C's Cottage
END:VEVENT
BEGIN:VEVENT
DTSTART;TZID=America/Los_Angeles:20240223T170000
DTEND;TZID=America/Los_Angeles:20240223T200000
DTSTAMP:20260422T151637
CREATED:20240222T232746Z
LAST-MODIFIED:20240222T232746Z
UID:1246-1708707600-1708718400@dawnyarndoll.com
SUMMARY:Unlocking the Beauty: Crafting a Diamond Painting Masterpiece
DESCRIPTION:
URL:https://dawnyarndoll.com/index.php/event/unlocking-the-beauty-crafting-a-diamond-painting-masterpiece/
CATEGORIES:Little Treasures by Nancy Lives
END:VEVENT
BEGIN:VEVENT
DTSTART;TZID=America/Los_Angeles:20240223T100000
DTEND;TZID=America/Los_Angeles:20240223T120000
DTSTAMP:20260422T151637
CREATED:20240219T181805Z
LAST-MODIFIED:20240219T181944Z
UID:1224-1708682400-1708689600@dawnyarndoll.com
SUMMARY:Pams Cozy Crochet Nook
DESCRIPTION:
URL:https://dawnyarndoll.com/index.php/event/pams-cozy-crochet-nook/
CATEGORIES:Pam;s Cozy Crochet Nook
END:VEVENT
BEGIN:VEVENT
DTSTART;TZID=America/Los_Angeles:20240222T140000
DTEND;TZID=America/Los_Angeles:20240222T150000
DTSTAMP:20260422T151637
CREATED:20240222T233229Z
LAST-MODIFIED:20240222T233229Z
UID:1251-1708610400-1708614000@dawnyarndoll.com
SUMMARY:Coffee and Chat along on Margies Crafty Corner
DESCRIPTION:
URL:https://dawnyarndoll.com/index.php/event/coffee-and-chat-along-on-margies-crafty-corner-9/
CATEGORIES:Margies Crafty Corner
END:VEVENT
BEGIN:VEVENT
DTSTART;TZID=America/Los_Angeles:20240221T210000
DTEND;TZID=America/Los_Angeles:20240221T223000
DTSTAMP:20260422T151637
CREATED:20240221T184855Z
LAST-MODIFIED:20240221T184855Z
UID:1229-1708549200-1708554600@dawnyarndoll.com
SUMMARY:Late night chit chat ~ let’s see what I won\, yarn haul & more on Michi's Crochet Nook
DESCRIPTION:
URL:https://dawnyarndoll.com/index.php/event/late-night-chit-chat-lets-see-what-i-won-yarn-haul-more-on-michis-crochet-nook/
CATEGORIES:Michi's Crochet Nook
END:VEVENT
BEGIN:VEVENT
DTSTART;TZID=America/Los_Angeles:20240221T190000
DTEND;TZID=America/Los_Angeles:20240221T210000
DTSTAMP:20260422T151637
CREATED:20240207T235027Z
LAST-MODIFIED:20240207T235027Z
UID:1170-1708542000-1708549200@dawnyarndoll.com
SUMMARY:Wednesday 2-21-2024 West Coast Wednesday Wild WIP's and Crochet Chat with Friends
DESCRIPTION:
URL:https://dawnyarndoll.com/index.php/event/wednesday-2-21-2024-west-coast-wednesday-wild-wips-and-crochet-chat-with-friends/
CATEGORIES:Dawn Yarn Doll Live
END:VEVENT
BEGIN:VEVENT
DTSTART;TZID=America/Los_Angeles:20240221T120000
DTEND;TZID=America/Los_Angeles:20240221T140000
DTSTAMP:20260422T151637
CREATED:20240222T052144Z
LAST-MODIFIED:20240222T052144Z
UID:1231-1708516800-1708524000@dawnyarndoll.com
SUMMARY:Art Junkie - Crochet and Mixed Media Arts
DESCRIPTION:
URL:https://dawnyarndoll.com/index.php/event/art-junkie-crochet-and-mixed-media-arts/
CATEGORIES:Art Junkie - Crochet and Mixed Media Arts
END:VEVENT
BEGIN:VEVENT
DTSTART;TZID=America/Los_Angeles:20240219T100000
DTEND;TZID=America/Los_Angeles:20240219T120000
DTSTAMP:20260422T151637
CREATED:20240128T012748Z
LAST-MODIFIED:20240128T012748Z
UID:1121-1708336800-1708344000@dawnyarndoll.com
SUMMARY:Kiwi's Birthday Bash on Kiwi's Crochet Corner
DESCRIPTION:
URL:https://dawnyarndoll.com/index.php/event/kiwis-birthday-bash-on-kiwis-crochet-corner/
CATEGORIES:Kiwi's Crochet Corner
END:VEVENT
BEGIN:VEVENT
DTSTART;TZID=America/Los_Angeles:20240219T093000
DTEND;TZID=America/Los_Angeles:20240219T113000
DTSTAMP:20260422T151637
CREATED:20240207T234623Z
LAST-MODIFIED:20240207T234901Z
UID:1165-1708335000-1708342200@dawnyarndoll.com
SUMMARY:Monday 2-19-2023 Members LiveStream After Hobbii BINGO
DESCRIPTION:
URL:https://dawnyarndoll.com/index.php/event/monday-2-19-2023-members-livestream-after-hobbii-bingo/
CATEGORIES:Dawn Yarn Doll Live
END:VEVENT
BEGIN:VEVENT
DTSTART;TZID=America/Los_Angeles:20240219T073000
DTEND;TZID=America/Los_Angeles:20240219T093000
DTSTAMP:20260422T151637
CREATED:20240207T234732Z
LAST-MODIFIED:20240207T234732Z
UID:1167-1708327800-1708335000@dawnyarndoll.com
SUMMARY:Monday 2-19-2024 Howling for HOBBII BINGO Yarny talk with Friends
DESCRIPTION:
URL:https://dawnyarndoll.com/index.php/event/monday-2-19-2024-howling-for-hobbii-bingo-yarny-talk-with-friends/
CATEGORIES:Dawn Yarn Doll Live
END:VEVENT
BEGIN:VEVENT
DTSTART;TZID=America/Los_Angeles:20240218T170000
DTEND;TZID=America/Los_Angeles:20240218T190000
DTSTAMP:20260422T151637
CREATED:20240211T215207Z
LAST-MODIFIED:20240211T215207Z
UID:1189-1708275600-1708282800@dawnyarndoll.com
SUMMARY:Sunday Fun Day ~ yarn haul\, chit chat\, giveaway?😉 on Michi's Crochet Nook
DESCRIPTION:
URL:https://dawnyarndoll.com/index.php/event/sunday-fun-day-yarn-haul-chit-chat-giveaway%f0%9f%98%89-on-michis-crochet-nook-2/
CATEGORIES:Michi's Crochet Nook
END:VEVENT
BEGIN:VEVENT
DTSTART;TZID=America/Los_Angeles:20240218T130000
DTEND;TZID=America/Los_Angeles:20240218T170000
DTSTAMP:20260422T151637
CREATED:20240208T201049Z
LAST-MODIFIED:20240208T201049Z
UID:1179-1708261200-1708275600@dawnyarndoll.com
SUMMARY:Hooked on Sundays with Scraptastic Crocheter
DESCRIPTION:
URL:https://dawnyarndoll.com/index.php/event/hooked-on-sundays-with-scraptastic-crocheter-4/
CATEGORIES:Scraptastic Crocheter Live
END:VEVENT
BEGIN:VEVENT
DTSTART;TZID=America/Los_Angeles:20240218T090000
DTEND;TZID=America/Los_Angeles:20240218T110000
DTSTAMP:20260422T151637
CREATED:20240215T020314Z
LAST-MODIFIED:20240215T020314Z
UID:1212-1708246800-1708254000@dawnyarndoll.com
SUMMARY:"Somebunny" Sunday #7 on Ms C's Cottage
DESCRIPTION:
URL:https://dawnyarndoll.com/index.php/event/somebunny-sunday-7-on-ms-cs-cottage/
CATEGORIES:Ms C's Cottage
END:VEVENT
BEGIN:VEVENT
DTSTART;TZID=America/Los_Angeles:20240216T170000
DTEND;TZID=America/Los_Angeles:20240216T200000
DTSTAMP:20260422T151637
CREATED:20240213T181647Z
LAST-MODIFIED:20240213T181647Z
UID:1202-1708102800-1708113600@dawnyarndoll.com
SUMMARY:Creating and Auctioning Unique Watercolor Artwork and Sketchbook (February)
DESCRIPTION:
URL:https://dawnyarndoll.com/index.php/event/creating-and-auctioning-unique-watercolor-artwork-and-sketchbook-february/
CATEGORIES:Little Treasures by Nancy Lives
END:VEVENT
END:VCALENDAR