BEGIN:VCALENDAR
VERSION:2.0
PRODID:-//Dawn Yarn Doll - ECPv6.15.20//NONSGML v1.0//EN
CALSCALE:GREGORIAN
METHOD:PUBLISH
X-WR-CALNAME:Dawn Yarn Doll
X-ORIGINAL-URL:https://dawnyarndoll.com
X-WR-CALDESC:Events for Dawn Yarn Doll
REFRESH-INTERVAL;VALUE=DURATION:PT1H
X-Robots-Tag:noindex
X-PUBLISHED-TTL:PT1H
BEGIN:VTIMEZONE
TZID:America/Los_Angeles
BEGIN:DAYLIGHT
TZOFFSETFROM:-0800
TZOFFSETTO:-0700
TZNAME:PDT
DTSTART:20220313T100000
END:DAYLIGHT
BEGIN:STANDARD
TZOFFSETFROM:-0700
TZOFFSETTO:-0800
TZNAME:PST
DTSTART:20221106T090000
END:STANDARD
BEGIN:DAYLIGHT
TZOFFSETFROM:-0800
TZOFFSETTO:-0700
TZNAME:PDT
DTSTART:20230312T100000
END:DAYLIGHT
BEGIN:STANDARD
TZOFFSETFROM:-0700
TZOFFSETTO:-0800
TZNAME:PST
DTSTART:20231105T090000
END:STANDARD
BEGIN:DAYLIGHT
TZOFFSETFROM:-0800
TZOFFSETTO:-0700
TZNAME:PDT
DTSTART:20240310T100000
END:DAYLIGHT
BEGIN:STANDARD
TZOFFSETFROM:-0700
TZOFFSETTO:-0800
TZNAME:PST
DTSTART:20241103T090000
END:STANDARD
END:VTIMEZONE
BEGIN:VEVENT
DTSTART;TZID=America/Los_Angeles:20231223T170000
DTEND;TZID=America/Los_Angeles:20231223T180000
DTSTAMP:20260423T010431
CREATED:20231219T203257Z
LAST-MODIFIED:20231219T203257Z
UID:777-1703350800-1703354400@dawnyarndoll.com
SUMMARY:Day 23 of 25 Days of Christmas DIYs
DESCRIPTION:
URL:https://dawnyarndoll.com/index.php/event/day-23-of-25-days-of-christmas-diys/
CATEGORIES:Little Treasures by Nancy Lives
END:VEVENT
BEGIN:VEVENT
DTSTART;TZID=America/Los_Angeles:20231223T160000
DTEND;TZID=America/Los_Angeles:20231223T170000
DTSTAMP:20260423T010431
CREATED:20231223T211833Z
LAST-MODIFIED:20231223T211833Z
UID:788-1703347200-1703350800@dawnyarndoll.com
SUMMARY:THANK YOU!! Pop-Up Live
DESCRIPTION:
URL:https://dawnyarndoll.com/index.php/event/thank-you-pop-up-live/
CATEGORIES:Bee Creative Crafts Lives
END:VEVENT
BEGIN:VEVENT
DTSTART;TZID=America/Los_Angeles:20231222T170000
DTEND;TZID=America/Los_Angeles:20231222T180000
DTSTAMP:20260423T010431
CREATED:20231219T202730Z
LAST-MODIFIED:20231219T202730Z
UID:775-1703264400-1703268000@dawnyarndoll.com
SUMMARY:Day 22 of 25 Days of Christmas DIYs
DESCRIPTION:
URL:https://dawnyarndoll.com/index.php/event/day-22-of-25-days-of-christmas-diys/
CATEGORIES:Little Treasures by Nancy Lives
END:VEVENT
BEGIN:VEVENT
DTSTART;TZID=America/Los_Angeles:20231221T180000
DTEND;TZID=America/Los_Angeles:20231221T190000
DTSTAMP:20260423T010431
CREATED:20231218T004548Z
LAST-MODIFIED:20231218T004548Z
UID:762-1703181600-1703185200@dawnyarndoll.com
SUMMARY:Off the Hook: Episode 66 / Color Pooling on Bee Creative Crafts
DESCRIPTION:
URL:https://dawnyarndoll.com/index.php/event/off-the-hook-episode-66-color-pooling-on-bee-creative-crafts/
CATEGORIES:Bee Creative Crafts Lives
END:VEVENT
BEGIN:VEVENT
DTSTART;TZID=America/Los_Angeles:20231221T160000
DTEND;TZID=America/Los_Angeles:20231221T180000
DTSTAMP:20260423T010431
CREATED:20231219T202537Z
LAST-MODIFIED:20231219T202537Z
UID:773-1703174400-1703181600@dawnyarndoll.com
SUMMARY:Day 21 of 25 Days of Christmas DIYs
DESCRIPTION:
URL:https://dawnyarndoll.com/index.php/event/day-21-of-25-days-of-christmas-diys/
CATEGORIES:Little Treasures by Nancy Lives
END:VEVENT
BEGIN:VEVENT
DTSTART;TZID=America/Los_Angeles:20231221T140000
DTEND;TZID=America/Los_Angeles:20231221T150000
DTSTAMP:20260423T010431
CREATED:20231212T204614Z
LAST-MODIFIED:20231212T204828Z
UID:313-1703167200-1703170800@dawnyarndoll.com
SUMMARY:Coffee & Chatalong with Margie's Crafty Corner
DESCRIPTION:
URL:https://dawnyarndoll.com/index.php/event/coffee-chatalong-with-margies-crafty-corner-3/
CATEGORIES:Margies Crafty Corner
END:VEVENT
BEGIN:VEVENT
DTSTART;TZID=America/Los_Angeles:20231220T190000
DTEND;TZID=America/Los_Angeles:20231220T230000
DTSTAMP:20260423T010431
CREATED:20231207T162810Z
LAST-MODIFIED:20231207T162810Z
UID:284-1703098800-1703113200@dawnyarndoll.com
SUMMARY:West Coast Wednesday Wild WIP's Holiday Party
DESCRIPTION:
URL:https://dawnyarndoll.com/index.php/event/west-coast-wednesday-wild-wips-holiday-party/
CATEGORIES:Dawn Yarn Doll Live
END:VEVENT
BEGIN:VEVENT
DTSTART;TZID=America/Los_Angeles:20231220T170000
DTEND;TZID=America/Los_Angeles:20231220T180000
DTSTAMP:20260423T010431
CREATED:20231218T005033Z
LAST-MODIFIED:20231218T005033Z
UID:768-1703091600-1703095200@dawnyarndoll.com
SUMMARY:Day 20 of 25 Days of Christmas DIYs
DESCRIPTION:
URL:https://dawnyarndoll.com/index.php/event/day-20-of-25-days-of-christmas-diys/
CATEGORIES:Little Treasures by Nancy Lives
END:VEVENT
BEGIN:VEVENT
DTSTART;TZID=America/Los_Angeles:20231219T170000
DTEND;TZID=America/Los_Angeles:20231219T180000
DTSTAMP:20260423T010431
CREATED:20231218T004847Z
LAST-MODIFIED:20231218T004847Z
UID:766-1703005200-1703008800@dawnyarndoll.com
SUMMARY:Day 19 of 25 Days of Christmas DIYs
DESCRIPTION:
URL:https://dawnyarndoll.com/index.php/event/day-19-of-25-days-of-christmas-diys/
CATEGORIES:Little Treasures by Nancy Lives
END:VEVENT
BEGIN:VEVENT
DTSTART;TZID=America/Los_Angeles:20231218T170000
DTEND;TZID=America/Los_Angeles:20231218T180000
DTSTAMP:20260423T010431
CREATED:20231218T004710Z
LAST-MODIFIED:20231218T004710Z
UID:764-1702918800-1702922400@dawnyarndoll.com
SUMMARY:Day 18 of 25 Days of Christmas DIYs
DESCRIPTION:
URL:https://dawnyarndoll.com/index.php/event/day-18-of-25-days-of-christmas-diys/
CATEGORIES:Little Treasures by Nancy Lives
END:VEVENT
BEGIN:VEVENT
DTSTART;TZID=America/Los_Angeles:20231218T073000
DTEND;TZID=America/Los_Angeles:20231218T093000
DTSTAMP:20260423T010431
CREATED:20231204T181512Z
LAST-MODIFIED:20231204T181512Z
UID:282-1702884600-1702891800@dawnyarndoll.com
SUMMARY:Howling for Hobbii BINGO Crochet and Chat with Friends
DESCRIPTION:
URL:https://dawnyarndoll.com/index.php/event/howling-for-hobbii-bingo-crochet-and-chat-with-friends-3/
CATEGORIES:Dawn Yarn Doll Live
END:VEVENT
BEGIN:VEVENT
DTSTART;TZID=America/Los_Angeles:20231217T170000
DTEND;TZID=America/Los_Angeles:20231217T180000
DTSTAMP:20260423T010431
CREATED:20231214T063830Z
LAST-MODIFIED:20231214T063830Z
UID:711-1702832400-1702836000@dawnyarndoll.com
SUMMARY:Day 17 of 25 Days of Christmas DIYs
DESCRIPTION:
URL:https://dawnyarndoll.com/index.php/event/day-17-of-25-days-of-christmas-diys/
CATEGORIES:Little Treasures by Nancy Lives
END:VEVENT
BEGIN:VEVENT
DTSTART;TZID=America/Los_Angeles:20231217T130000
DTEND;TZID=America/Los_Angeles:20231217T170000
DTSTAMP:20260423T010431
CREATED:20231213T143619Z
LAST-MODIFIED:20231213T143619Z
UID:319-1702818000-1702832400@dawnyarndoll.com
SUMMARY:Scrapdolls Peek-a-boo Party! - Prepping for Christmas
DESCRIPTION:
URL:https://dawnyarndoll.com/index.php/event/scrapdolls-peek-a-boo-party-prepping-for-christmas/
CATEGORIES:Scraptastic Crocheter Live
END:VEVENT
BEGIN:VEVENT
DTSTART;TZID=America/Los_Angeles:20231216T180000
DTEND;TZID=America/Los_Angeles:20231216T190000
DTSTAMP:20260423T010431
CREATED:20231216T144405Z
LAST-MODIFIED:20231216T144405Z
UID:734-1702749600-1702753200@dawnyarndoll.com
SUMMARY:Lisa Knits and Vlogs Chit Chat #38
DESCRIPTION:
URL:https://dawnyarndoll.com/index.php/event/lisa-knits-and-vlogs-chit-chat-38/
CATEGORIES:Lisa Knits and Vlogs
END:VEVENT
BEGIN:VEVENT
DTSTART;TZID=America/Los_Angeles:20231216T170000
DTEND;TZID=America/Los_Angeles:20231216T180000
DTSTAMP:20260423T010431
CREATED:20231214T063702Z
LAST-MODIFIED:20231214T063702Z
UID:709-1702746000-1702749600@dawnyarndoll.com
SUMMARY:Day 16 of 25 Days of Christmas DIYs
DESCRIPTION:
URL:https://dawnyarndoll.com/index.php/event/day-16-of-25-days-of-christmas-diys/
CATEGORIES:Little Treasures by Nancy Lives
END:VEVENT
BEGIN:VEVENT
DTSTART;TZID=America/Los_Angeles:20231215T170000
DTEND;TZID=America/Los_Angeles:20231215T180000
DTSTAMP:20260423T010431
CREATED:20231214T063544Z
LAST-MODIFIED:20231214T063544Z
UID:707-1702659600-1702663200@dawnyarndoll.com
SUMMARY:Day 15 of 25 Days of Christmas DIYs
DESCRIPTION:
URL:https://dawnyarndoll.com/index.php/event/day-15-of-25-days-of-christmas-diys/
CATEGORIES:Little Treasures by Nancy Lives
END:VEVENT
BEGIN:VEVENT
DTSTART;TZID=America/Los_Angeles:20231214T180000
DTEND;TZID=America/Los_Angeles:20231214T200000
DTSTAMP:20260423T010431
CREATED:20231214T025914Z
LAST-MODIFIED:20231214T025914Z
UID:330-1702576800-1702584000@dawnyarndoll.com
SUMMARY:Off the Hook: Episode 65 On Bee Creative Crafts
DESCRIPTION:
URL:https://dawnyarndoll.com/index.php/event/off-the-hook-episode-65-on-bee-creative-crafts/
CATEGORIES:Bee Creative Crafts Lives
END:VEVENT
BEGIN:VEVENT
DTSTART;TZID=America/Los_Angeles:20231214T170000
DTEND;TZID=America/Los_Angeles:20231214T180000
DTSTAMP:20260423T010431
CREATED:20231212T014117Z
LAST-MODIFIED:20231212T205227Z
UID:308-1702573200-1702576800@dawnyarndoll.com
SUMMARY:Day 14 of 25 Days of Christmas DIYs
DESCRIPTION:
URL:https://dawnyarndoll.com/index.php/event/day-14-of-25-days-of-christmas-diys-copy/
CATEGORIES:Little Treasures by Nancy Lives
END:VEVENT
BEGIN:VEVENT
DTSTART;TZID=America/Los_Angeles:20231214T140000
DTEND;TZID=America/Los_Angeles:20231214T150000
DTSTAMP:20260423T010431
CREATED:20231212T204424Z
LAST-MODIFIED:20231212T204424Z
UID:310-1702562400-1702566000@dawnyarndoll.com
SUMMARY:Coffee & Chatalong with Margie's Crafty Corner
DESCRIPTION:
URL:https://dawnyarndoll.com/index.php/event/coffee-chatalong-with-margies-crafty-corner/
CATEGORIES:Margies Crafty Corner
END:VEVENT
BEGIN:VEVENT
DTSTART;TZID=America/Los_Angeles:20231213T230000
DTEND;TZID=America/Los_Angeles:20231213T233000
DTSTAMP:20260423T010431
CREATED:20231213T151122Z
LAST-MODIFIED:20231213T151459Z
UID:321-1702508400-1702510200@dawnyarndoll.com
SUMMARY:Lisa KNits and Vlogs Chit Chat #37
DESCRIPTION:
URL:https://dawnyarndoll.com/index.php/event/chit-chat-37/
CATEGORIES:Lisa Knits and Vlogs
END:VEVENT
BEGIN:VEVENT
DTSTART;TZID=America/Los_Angeles:20231213T200000
DTEND;TZID=America/Los_Angeles:20231213T220000
DTSTAMP:20260423T010431
CREATED:20231130T184734Z
LAST-MODIFIED:20231130T184734Z
UID:247-1702497600-1702504800@dawnyarndoll.com
SUMMARY:West Coast Wednesday Wild WIP's Hangout
DESCRIPTION:Wednesday 12-13-2023 West Coast Wednesday Wild WIP’s Hangout
URL:https://dawnyarndoll.com/index.php/event/west-coast-wednesday-wild-wips-hangout-2/
CATEGORIES:Dawn Yarn Doll Live
END:VEVENT
BEGIN:VEVENT
DTSTART;TZID=America/Los_Angeles:20231213T170000
DTEND;TZID=America/Los_Angeles:20231213T180000
DTSTAMP:20260423T010431
CREATED:20231212T013946Z
LAST-MODIFIED:20231212T013946Z
UID:306-1702486800-1702490400@dawnyarndoll.com
SUMMARY:Day 13 of 25 Days of Christmas DIYs
DESCRIPTION:
URL:https://dawnyarndoll.com/index.php/event/day-13-of-25-days-of-christmas-diys/
CATEGORIES:Little Treasures by Nancy Lives
END:VEVENT
BEGIN:VEVENT
DTSTART;TZID=America/Los_Angeles:20231212T170000
DTEND;TZID=America/Los_Angeles:20231212T180000
DTSTAMP:20260423T010431
CREATED:20231212T013839Z
LAST-MODIFIED:20231212T013839Z
UID:304-1702400400-1702404000@dawnyarndoll.com
SUMMARY:Day 12 of 25 Days of Christmas DIYs
DESCRIPTION:
URL:https://dawnyarndoll.com/index.php/event/day-12-of-25-days-of-christmas-diys/
CATEGORIES:Little Treasures by Nancy Lives
END:VEVENT
BEGIN:VEVENT
DTSTART;TZID=America/Los_Angeles:20231211T170000
DTEND;TZID=America/Los_Angeles:20231211T190000
DTSTAMP:20260423T010431
CREATED:20231209T190739Z
LAST-MODIFIED:20231209T190739Z
UID:291-1702314000-1702321200@dawnyarndoll.com
SUMMARY:Day 11 of 25 Days of Christmas DIYs
DESCRIPTION:
URL:https://dawnyarndoll.com/index.php/event/day-11-of-25-days-of-christmas-diys/
CATEGORIES:Little Treasures by Nancy Lives
END:VEVENT
BEGIN:VEVENT
DTSTART;TZID=America/Los_Angeles:20231211T160000
DTEND;TZID=America/Los_Angeles:20231211T180000
DTSTAMP:20260423T010431
CREATED:20231211T182940Z
LAST-MODIFIED:20231211T183141Z
UID:298-1702310400-1702317600@dawnyarndoll.com
SUMMARY:Just Bee Stitchin’ / Cup Cozies
DESCRIPTION:Thank you for joining Connie @justanotherstitch & I. We hope you enjoy the cup cozy patterns we’re sharing with you today! Like the hats we’re wearing the in thumbnail? Connie wrote the pattern and it will be available soon! Keep a watch on her channel for more details.  \nCrochet Patterns: https://www.ravelry.com/patterns/libr… \n https://www.ravelry.com/patterns/libr…  \nhttps://www.ravelry.com/patterns/libr…  \nhttps://www.ravelry.com/patterns/libr…  \nhttps://www.ravelry.com/patterns/libr…  \nhttps://www.ravelry.com/patterns/libr…  \nhttps://www.ravelry.com/patterns/libr… \n https://www.ravelry.com/patterns/libr…  \nhttps://www.ravelry.com/patterns/libr…  \nhttps://www.ravelry.com/patterns/libr… \n https://www.ravelry.com/patterns/libr… \n https://blackstone-designs.com/moose-…  \nhttps://www.passionatecrafter.com/sno…  \nKnitted Patterns:  \nhttps://knittingpattern.org/christmas…  \nhttps://www.ravelry.com/patterns/libr…  \nhttps://www.ravelry.com/patterns/libr… \n https://www.ravelry.com/patterns/libr…  \nhttps://www.ravelry.com/patterns/libr…
URL:https://dawnyarndoll.com/index.php/event/just-bee-stitchin-cup-cozies/
CATEGORIES:Bee Creative Crafts Lives
END:VEVENT
BEGIN:VEVENT
DTSTART;TZID=America/Los_Angeles:20231211T073000
DTEND;TZID=America/Los_Angeles:20231211T093000
DTSTAMP:20260423T010431
CREATED:20231130T184520Z
LAST-MODIFIED:20231130T184520Z
UID:245-1702279800-1702287000@dawnyarndoll.com
SUMMARY:Howling for Hobbii BINGO Crochet and Chat with Friends
DESCRIPTION:
URL:https://dawnyarndoll.com/index.php/event/howling-for-hobbii-bingo-crochet-and-chat-with-friends-2/
CATEGORIES:Dawn Yarn Doll Live
END:VEVENT
BEGIN:VEVENT
DTSTART;TZID=America/Los_Angeles:20231210T170000
DTEND;TZID=America/Los_Angeles:20231210T190000
DTSTAMP:20260423T010431
CREATED:20231209T190609Z
LAST-MODIFIED:20231209T190609Z
UID:289-1702227600-1702234800@dawnyarndoll.com
SUMMARY:Day 10 of 25 Days of Christmas DIYs
DESCRIPTION:
URL:https://dawnyarndoll.com/index.php/event/day-10-of-25-days-of-christmas-diys/
CATEGORIES:Little Treasures by Nancy Lives
END:VEVENT
BEGIN:VEVENT
DTSTART;TZID=America/Los_Angeles:20231209T170000
DTEND;TZID=America/Los_Angeles:20231209T190000
DTSTAMP:20260423T010431
CREATED:20231209T190334Z
LAST-MODIFIED:20231209T190334Z
UID:287-1702141200-1702148400@dawnyarndoll.com
SUMMARY:Day 9 of 25 Days of Christmas DIYs
DESCRIPTION:
URL:https://dawnyarndoll.com/index.php/event/day-9-of-25-days-of-christmas-diys/
CATEGORIES:Little Treasures by Nancy Lives
END:VEVENT
BEGIN:VEVENT
DTSTART;TZID=America/Los_Angeles:20231209T160000
DTEND;TZID=America/Los_Angeles:20231209T180000
DTSTAMP:20260423T010431
CREATED:20231207T025323Z
LAST-MODIFIED:20231207T025323Z
UID:279-1702137600-1702144800@dawnyarndoll.com
SUMMARY:Lets Get Crafting on BeeCreative Crafts
DESCRIPTION:
URL:https://dawnyarndoll.com/index.php/event/lets-get-crafting-on-beecreative-crafts/
CATEGORIES:Bee Creative Crafts Lives
END:VEVENT
BEGIN:VEVENT
DTSTART;TZID=America/Los_Angeles:20231208T160000
DTEND;TZID=America/Los_Angeles:20231208T230000
DTSTAMP:20260423T010431
CREATED:20231130T185954Z
LAST-MODIFIED:20231130T185954Z
UID:255-1702051200-1702076400@dawnyarndoll.com
SUMMARY:ONE AUCTION 7 SELLERS Your one stop shop for handmade Christmas gifts
DESCRIPTION:🎄 Join us at Little Treasures by Nancy for a special Santa’s Workshop Auction on December 8\, 2023 at 7PM Eastern! 🎁✨ We’ll be showcasing a variety of unique\, handcrafted holiday treasures perfect for gifting to your loved ones or adding a festive touch to your home. 🏠❤️ On that day we will be auctioning off READY TO SHIP items. According to USPS if packages are delivered by the 16th they will arrive by the Christmas. If you want custom orders by the sellers please contact them DIRECTLY to place your orders. I will have their email addresses next to their channels below. NO CUSTOM ORDERS will be taken during the auction.
URL:https://dawnyarndoll.com/index.php/event/one-auction-7-sellers-your-one-stop-shop-for-handmade-christmas-gifts/
CATEGORIES:Little Treasures by Nancy Lives
END:VEVENT
END:VCALENDAR